BEGIN:VCALENDAR
VERSION:2.0
PRODID:-//WeSPARK - ECPv6.15.17.1//NONSGML v1.0//EN
CALSCALE:GREGORIAN
METHOD:PUBLISH
X-WR-CALNAME:WeSPARK
X-ORIGINAL-URL:https://wespark.org
X-WR-CALDESC:Events for WeSPARK
REFRESH-INTERVAL;VALUE=DURATION:PT1H
X-Robots-Tag:noindex
X-PUBLISHED-TTL:PT1H
BEGIN:VTIMEZONE
TZID:America/Los_Angeles
BEGIN:DAYLIGHT
TZOFFSETFROM:-0800
TZOFFSETTO:-0700
TZNAME:PDT
DTSTART:20200308T100000
END:DAYLIGHT
BEGIN:STANDARD
TZOFFSETFROM:-0700
TZOFFSETTO:-0800
TZNAME:PST
DTSTART:20201101T090000
END:STANDARD
BEGIN:DAYLIGHT
TZOFFSETFROM:-0800
TZOFFSETTO:-0700
TZNAME:PDT
DTSTART:20210314T100000
END:DAYLIGHT
BEGIN:STANDARD
TZOFFSETFROM:-0700
TZOFFSETTO:-0800
TZNAME:PST
DTSTART:20211107T090000
END:STANDARD
BEGIN:DAYLIGHT
TZOFFSETFROM:-0800
TZOFFSETTO:-0700
TZNAME:PDT
DTSTART:20220313T100000
END:DAYLIGHT
BEGIN:STANDARD
TZOFFSETFROM:-0700
TZOFFSETTO:-0800
TZNAME:PST
DTSTART:20221106T090000
END:STANDARD
END:VTIMEZONE
BEGIN:VEVENT
DTSTART;TZID=America/Los_Angeles:20210506T100000
DTEND;TZID=America/Los_Angeles:20210506T110000
DTSTAMP:20260420T105939
CREATED:20210331T215636Z
LAST-MODIFIED:20210503T205106Z
UID:10010496-1620295200-1620298800@wespark.org
SUMMARY:Mindfulness & Self-Care Beginner
DESCRIPTION:with Diane Hubner\nThis 8-week class is for individuals who have not yet taken Diane’s class before. \nParticipants will learn how to practice mindfulness and self-care while doing everyday things\, i.e.\, listening to music\, exercising\, walking\, and resting periods. Each consecutive week introduces new techniques and tools. \nRegistration is required for this new class series. Save your spot now. \nRegister Now
URL:https://wespark.org/event/mindfulness-self-care-beginner-2021-04-22-2021-05-06/
CATEGORIES:rsvp,thisweek
ATTACH;FMTTYPE=image/png:https://wespark.org/wp-content/uploads/2021/03/2021-Mindfulness-Beginner-Image.png
END:VEVENT
BEGIN:VEVENT
DTSTART;TZID=America/Los_Angeles:20210506T101500
DTEND;TZID=America/Los_Angeles:20210506T111500
DTSTAMP:20260420T105939
CREATED:20210115T000239Z
LAST-MODIFIED:20221103T230609Z
UID:10009686-1620296100-1620299700@wespark.org
SUMMARY:Ongoing Treatment Support Group
DESCRIPTION:This nurturing group focuses on issues relevant to those with a metastatic\, advanced diagnosis of cancer such as how to be a better advocate as well as enhance the quality of one’s life. Other issues discussed are body image\, familial concerns\, symptom management\, pain control\, anticipatory grief\, and anxiety. \n\n\n\n\n\n\n\n\n\n 
URL:https://wespark.org/event/ongoing-treatment-support-group/2021-05-06/
ATTACH;FMTTYPE=image/jpeg:https://wespark.org/wp-content/uploads/2021/02/Ongoing-Treatment-and-Metastatic-SG-1.jpg
END:VEVENT
BEGIN:VEVENT
DTSTART;TZID=America/Los_Angeles:20210506T143000
DTEND;TZID=America/Los_Angeles:20210506T153000
DTSTAMP:20260420T105939
CREATED:20210115T000138Z
LAST-MODIFIED:20210930T210612Z
UID:10009631-1620311400-1620315000@wespark.org
SUMMARY:Men’s Support Group
DESCRIPTION:Led by a physician and therapist\, this group is for men in all stages of a cancer diagnosis\, treatment\, or after treatment. Learn strategies for coping with diagnosis\, side effects from treatment\, fear and anxiety and familial relationships. \n\n\n\n\n\n\n\n\n\n 
URL:https://wespark.org/event/mens-support-group/2021-05-06/
ATTACH;FMTTYPE=image/jpeg:https://wespark.org/wp-content/uploads/2021/02/Mens-SG-1.jpg
END:VEVENT
BEGIN:VEVENT
DTSTART;TZID=America/Los_Angeles:20210506T170000
DTEND;TZID=America/Los_Angeles:20210506T180000
DTSTAMP:20260420T105939
CREATED:20210114T235232Z
LAST-MODIFIED:20220802T191633Z
UID:10009280-1620320400-1620324000@wespark.org
SUMMARY:Doing Cancer Solo Support Group
DESCRIPTION:This is a group for anyone who feels like they are facing cancer alone- either without the support of a partner\, or a family. We will share tools and strategies that help to differentiate between feelings and circumstances\, while helping to deepen connections to ourselves and creating community. \n\n\n\n\n\n\n\n\n\n 
URL:https://wespark.org/event/doing-cancer-solo-singles-support-group/2021-05-06/
ATTACH;FMTTYPE=image/jpeg:https://wespark.org/wp-content/uploads/2021/02/Doing-Cancer-Solo-SG-2021-12X6-2.jpg
END:VEVENT
BEGIN:VEVENT
DTSTART;TZID=America/Los_Angeles:20210506T170000
DTEND;TZID=America/Los_Angeles:20210506T180000
DTSTAMP:20260420T105939
CREATED:20221004T195528Z
LAST-MODIFIED:20221004T195528Z
UID:10009385-1620320400-1620324000@wespark.org
SUMMARY:Doing Cancer Solo Support Group
DESCRIPTION:This is a group for anyone who feels like they are facing cancer alone- either without the support of a partner\, or a family. We will share tools and strategies that help to differentiate between feelings and circumstances\, while helping to deepen connections to ourselves and creating community. \n\n\n\n\n\n\n\n\n\n 
URL:https://wespark.org/event/doing-cancer-solo-singles-support-group/2021-05-06/
ATTACH;FMTTYPE=image/jpeg:https://wespark.org/wp-content/uploads/2021/02/Doing-Cancer-Solo-SG-2021-12X6-2.jpg
END:VEVENT
BEGIN:VEVENT
DTSTART;TZID=America/Los_Angeles:20210506T180000
DTEND;TZID=America/Los_Angeles:20210506T190000
DTSTAMP:20260420T105939
CREATED:20210114T234951Z
LAST-MODIFIED:20220104T001515Z
UID:10008705-1620324000-1620327600@wespark.org
SUMMARY:Caregivers Support Group
DESCRIPTION:This supportive environment is perfect for anyone affected by a loved one’s cancer diagnosis. The group is both educational and encouraging in nature. It provides a venue for caregivers to vent their frustrations and seek support from others in a similar situation. Anticipatory grief\, intimacy issues\, and other familial concerns are discussed. \n\n\n\n\n\n\n\n\n\n 
URL:https://wespark.org/event/caregivers-support-group/2021-05-06/
ATTACH;FMTTYPE=image/jpeg:https://wespark.org/wp-content/uploads/2021/02/Caregiver-SG-12X6-2.jpg
END:VEVENT
BEGIN:VEVENT
DTSTART;TZID=America/Los_Angeles:20210506T183000
DTEND;TZID=America/Los_Angeles:20210506T190000
DTSTAMP:20260420T105939
CREATED:20200615T204448Z
LAST-MODIFIED:20200730T035820Z
UID:10008226-1620325800-1620327600@wespark.org
SUMMARY:Group Chat
DESCRIPTION:Zoom Link
URL:https://wespark.org/event/group-chat/2021-05-06/
END:VEVENT
END:VCALENDAR