BEGIN:VCALENDAR
VERSION:2.0
PRODID:-//WeSPARK - ECPv6.15.17.1//NONSGML v1.0//EN
CALSCALE:GREGORIAN
METHOD:PUBLISH
X-WR-CALNAME:WeSPARK
X-ORIGINAL-URL:https://wespark.org
X-WR-CALDESC:Events for WeSPARK
REFRESH-INTERVAL;VALUE=DURATION:PT1H
X-Robots-Tag:noindex
X-PUBLISHED-TTL:PT1H
BEGIN:VTIMEZONE
TZID:America/Los_Angeles
BEGIN:DAYLIGHT
TZOFFSETFROM:-0800
TZOFFSETTO:-0700
TZNAME:PDT
DTSTART:20200308T100000
END:DAYLIGHT
BEGIN:STANDARD
TZOFFSETFROM:-0700
TZOFFSETTO:-0800
TZNAME:PST
DTSTART:20201101T090000
END:STANDARD
BEGIN:DAYLIGHT
TZOFFSETFROM:-0800
TZOFFSETTO:-0700
TZNAME:PDT
DTSTART:20210314T100000
END:DAYLIGHT
BEGIN:STANDARD
TZOFFSETFROM:-0700
TZOFFSETTO:-0800
TZNAME:PST
DTSTART:20211107T090000
END:STANDARD
BEGIN:DAYLIGHT
TZOFFSETFROM:-0800
TZOFFSETTO:-0700
TZNAME:PDT
DTSTART:20220313T100000
END:DAYLIGHT
BEGIN:STANDARD
TZOFFSETFROM:-0700
TZOFFSETTO:-0800
TZNAME:PST
DTSTART:20221106T090000
END:STANDARD
END:VTIMEZONE
BEGIN:VEVENT
DTSTART;TZID=America/Los_Angeles:20210619T110000
DTEND;TZID=America/Los_Angeles:20210619T120000
DTSTAMP:20260421T202808
CREATED:20210115T064001Z
LAST-MODIFIED:20210930T232842Z
UID:10010113-1624100400-1624104000@wespark.org
SUMMARY:Kids Group
DESCRIPTION:For Kids and “Tweens” ages 4-12 who have a loved one with cancer or who have lost a loved one to cancer. Our “wee” SPARK program was created for fun and activities (Karate\, Cooking\, Arts and Crafts) while allowing kids to interact with each other who are experiencing similar challenges. \n\n\n\n\n\n\n\n\n\n 
URL:https://wespark.org/event/kids-group-2/2021-06-19/
ATTACH;FMTTYPE=image/jpeg:https://wespark.org/wp-content/uploads/2021/02/Kids-Group-2021-12X6.jpg
END:VEVENT
BEGIN:VEVENT
DTSTART;TZID=America/Los_Angeles:20210619T141500
DTEND;TZID=America/Los_Angeles:20210619T151500
DTSTAMP:20260421T202808
CREATED:20201105T213438Z
LAST-MODIFIED:20220627T234342Z
UID:10010304-1624112100-1624115700@wespark.org
SUMMARY:Yoga with Yovanni
DESCRIPTION:Join Yovanni for online yoga from the comfort of your home on Saturdays. This popular exercise helps relieve anxiety and promotes better sleep. Space is limited\, so please register to reserve your spot and receive the link for the class. \nRegister Now\n\n\n\n\n\n\n\n\n\n 
URL:https://wespark.org/event/yoga-with-yovanni-2021-04-03/2021-06-19/
ATTACH;FMTTYPE=image/jpeg:https://wespark.org/wp-content/uploads/2020/11/Yoga-with-Yovanni-2021-12X6-2.jpg
END:VEVENT
BEGIN:VEVENT
DTSTART;TZID=America/Los_Angeles:20210619T180000
DTEND;TZID=America/Los_Angeles:20210619T190000
DTSTAMP:20260421T202808
CREATED:20210114T234951Z
LAST-MODIFIED:20220104T001515Z
UID:10008749-1624125600-1624129200@wespark.org
SUMMARY:Caregivers Support Group
DESCRIPTION:This supportive environment is perfect for anyone affected by a loved one’s cancer diagnosis. The group is both educational and encouraging in nature. It provides a venue for caregivers to vent their frustrations and seek support from others in a similar situation. Anticipatory grief\, intimacy issues\, and other familial concerns are discussed. \n\n\n\n\n\n\n\n\n\n 
URL:https://wespark.org/event/caregivers-support-group/2021-06-19/
ATTACH;FMTTYPE=image/jpeg:https://wespark.org/wp-content/uploads/2021/02/Caregiver-SG-12X6-2.jpg
END:VEVENT
END:VCALENDAR