BEGIN:VCALENDAR
VERSION:2.0
PRODID:-//WeSPARK - ECPv6.15.17.1//NONSGML v1.0//EN
CALSCALE:GREGORIAN
METHOD:PUBLISH
X-ORIGINAL-URL:https://wespark.org
X-WR-CALDESC:Events for WeSPARK
REFRESH-INTERVAL;VALUE=DURATION:PT1H
X-Robots-Tag:noindex
X-PUBLISHED-TTL:PT1H
BEGIN:VTIMEZONE
TZID:America/Los_Angeles
BEGIN:DAYLIGHT
TZOFFSETFROM:-0800
TZOFFSETTO:-0700
TZNAME:PDT
DTSTART:20210314T100000
END:DAYLIGHT
BEGIN:STANDARD
TZOFFSETFROM:-0700
TZOFFSETTO:-0800
TZNAME:PST
DTSTART:20211107T090000
END:STANDARD
BEGIN:DAYLIGHT
TZOFFSETFROM:-0800
TZOFFSETTO:-0700
TZNAME:PDT
DTSTART:20220313T100000
END:DAYLIGHT
BEGIN:STANDARD
TZOFFSETFROM:-0700
TZOFFSETTO:-0800
TZNAME:PST
DTSTART:20221106T090000
END:STANDARD
BEGIN:DAYLIGHT
TZOFFSETFROM:-0800
TZOFFSETTO:-0700
TZNAME:PDT
DTSTART:20230312T100000
END:DAYLIGHT
BEGIN:STANDARD
TZOFFSETFROM:-0700
TZOFFSETTO:-0800
TZNAME:PST
DTSTART:20231105T090000
END:STANDARD
END:VTIMEZONE
BEGIN:VEVENT
DTSTART;TZID=America/Los_Angeles:20220725T110000
DTEND;TZID=America/Los_Angeles:20220725T120000
DTSTAMP:20260420T081524
CREATED:20220427T231920Z
LAST-MODIFIED:20220912T184626Z
UID:10011121-1658746800-1658750400@wespark.org
SUMMARY:Self-Care Through Lymphatic Health Workshop
DESCRIPTION:Join Solla Pizzuto as she guides you on how to perform a self-massage for lymphatic drainage by using light pressure and gentle movements.\nThis workshop can be useful for most people\, but it will benefit individuals experiencing lymphedema caused by cancer treatment. Lymphatic drainage helps improve the immune system and reduce stress. Please register early to reserve your spot and receive the Zoom link. \nREGISTER NOW
URL:https://wespark.org/event/self-care-through-lymphatic-health-workshop-2022-07-25/
CATEGORIES:rsvp,thismonth
ATTACH;FMTTYPE=image/png:https://wespark.org/wp-content/uploads/2021/09/Self-Care-Through-Lymphatic-Health-Web-5.png
END:VEVENT
BEGIN:VEVENT
DTSTART;TZID=America/Los_Angeles:20220725T150000
DTEND;TZID=America/Los_Angeles:20220725T160000
DTSTAMP:20260420T081524
CREATED:20220111T202911Z
LAST-MODIFIED:20230103T182450Z
UID:10010880-1658761200-1658764800@wespark.org
SUMMARY:QI Gong & Meditation for Cancer Support
DESCRIPTION:Ed Sullivan leads this class that combines exercises and powerful meditations to help restore and maintain health and wellness. This weekly practice helps reduce fatigue\, brain fog\, anxiety\, and numbness or tingling in your hands and feet. This practice can be done from a standing or seated position. \nJoin Ed on Mondays at 3 PM. \n\n\n\n\n\n\n\n\n\n 
URL:https://wespark.org/event/qi-gong-meditation-for-cancer-support-2/2022-07-25/
ATTACH;FMTTYPE=image/jpeg:https://wespark.org/wp-content/uploads/2020/11/Qi-Gong-12x6-2.jpg
END:VEVENT
BEGIN:VEVENT
DTSTART;TZID=America/Los_Angeles:20220725T180000
DTEND;TZID=America/Los_Angeles:20220725T190000
DTSTAMP:20260420T081524
CREATED:20210114T234951Z
LAST-MODIFIED:20220104T001515Z
UID:10009137-1658772000-1658775600@wespark.org
SUMMARY:Caregivers Support Group
DESCRIPTION:This supportive environment is perfect for anyone affected by a loved one’s cancer diagnosis. The group is both educational and encouraging in nature. It provides a venue for caregivers to vent their frustrations and seek support from others in a similar situation. Anticipatory grief\, intimacy issues\, and other familial concerns are discussed. \n\n\n\n\n\n\n\n\n\n 
URL:https://wespark.org/event/caregivers-support-group/2022-07-25/
ATTACH;FMTTYPE=image/jpeg:https://wespark.org/wp-content/uploads/2021/02/Caregiver-SG-12X6-2.jpg
END:VEVENT
END:VCALENDAR