BEGIN:VCALENDAR
VERSION:2.0
PRODID:-//WeSPARK - ECPv6.15.17.1//NONSGML v1.0//EN
CALSCALE:GREGORIAN
METHOD:PUBLISH
X-WR-CALNAME:WeSPARK
X-ORIGINAL-URL:https://wespark.org
X-WR-CALDESC:Events for WeSPARK
REFRESH-INTERVAL;VALUE=DURATION:PT1H
X-Robots-Tag:noindex
X-PUBLISHED-TTL:PT1H
BEGIN:VTIMEZONE
TZID:America/Los_Angeles
BEGIN:DAYLIGHT
TZOFFSETFROM:-0800
TZOFFSETTO:-0700
TZNAME:PDT
DTSTART:20210314T100000
END:DAYLIGHT
BEGIN:STANDARD
TZOFFSETFROM:-0700
TZOFFSETTO:-0800
TZNAME:PST
DTSTART:20211107T090000
END:STANDARD
BEGIN:DAYLIGHT
TZOFFSETFROM:-0800
TZOFFSETTO:-0700
TZNAME:PDT
DTSTART:20220313T100000
END:DAYLIGHT
BEGIN:STANDARD
TZOFFSETFROM:-0700
TZOFFSETTO:-0800
TZNAME:PST
DTSTART:20221106T090000
END:STANDARD
BEGIN:DAYLIGHT
TZOFFSETFROM:-0800
TZOFFSETTO:-0700
TZNAME:PDT
DTSTART:20230312T100000
END:DAYLIGHT
BEGIN:STANDARD
TZOFFSETFROM:-0700
TZOFFSETTO:-0800
TZNAME:PST
DTSTART:20231105T090000
END:STANDARD
END:VTIMEZONE
BEGIN:VEVENT
DTSTART;TZID=America/Los_Angeles:20220726T100000
DTEND;TZID=America/Los_Angeles:20220726T110000
DTSTAMP:20260422T020729
CREATED:20200616T205207Z
LAST-MODIFIED:20221003T172501Z
UID:10008394-1658829600-1658833200@wespark.org
SUMMARY:Yoga with Victoria
DESCRIPTION:Join Victoria from Perseverance Yoga for a morning opportunity to stretch and build a healthy routine. Yoga helps reduce stress and improve quality of life. With Victoria Gluchoski. Please register to reserve your spot at this yoga class via Zoom. \n\n\n\n\n\n\n\n\n\n\n 
URL:https://wespark.org/event/yoga/2022-07-26/
ATTACH;FMTTYPE=image/jpeg:https://wespark.org/wp-content/uploads/2020/11/Yoga-with-Victoria-12X61.jpg
END:VEVENT
BEGIN:VEVENT
DTSTART;TZID=America/Los_Angeles:20220726T110000
DTEND;TZID=America/Los_Angeles:20220726T120000
DTSTAMP:20260422T020729
CREATED:20210426T221158Z
LAST-MODIFIED:20210908T191127Z
UID:10010528-1658833200-1658836800@wespark.org
SUMMARY:Self-Care Through Lymphatic Health
DESCRIPTION:Join Solla Pizzuto as she guides you on how to perform a self-massage for lymphatic drainage by using light pressure and gentle movements.\nThis workshop can be useful for most people\, but it will benefit individuals experiencing lymphedema caused by cancer treatment. Lymphatic drainage helps improve the immune system and reduce stress. Please register early to reserve your spot and receive the Zoom link. \nREGISTER NOW\n\n\n\n\n\n\n\n\n\n 
URL:https://wespark.org/event/self-care-through-lymphatic-health-3-2021-07-26/2022-07-26/
CATEGORIES:rsvp
ATTACH;FMTTYPE=image/png:https://wespark.org/wp-content/uploads/2021/04/Self-Care-Through-Lymphatic-Health-Web.png
END:VEVENT
BEGIN:VEVENT
DTSTART;TZID=America/Los_Angeles:20220726T130000
DTEND;TZID=America/Los_Angeles:20220726T140000
DTSTAMP:20260422T020729
CREATED:20210204T193854Z
LAST-MODIFIED:20221003T192948Z
UID:10010213-1658840400-1658844000@wespark.org
SUMMARY:Young Adult Support Group
DESCRIPTION:Tuesdays at 1 PM With Jaime Allen \nYoung Adult groups are for young adult cancer patients\, ages 18-39. If you are going through treatment or are post treatment\, this is the group for you. Join WeSPARK and i’m too young for this! as we offer a space where you can connect with other young adults facing similar issues. \n\n\n\n\n\n\n\n\n\n 
URL:https://wespark.org/event/young-adult-support-group/2022-07-26/
ATTACH;FMTTYPE=image/jpeg:https://wespark.org/wp-content/uploads/2021/02/Young-Adult-SG.jpg
END:VEVENT
BEGIN:VEVENT
DTSTART;TZID=America/Los_Angeles:20220726T180000
DTEND;TZID=America/Los_Angeles:20220726T190000
DTSTAMP:20260422T020729
CREATED:20210114T234951Z
LAST-MODIFIED:20220104T001515Z
UID:10009138-1658858400-1658862000@wespark.org
SUMMARY:Caregivers Support Group
DESCRIPTION:This supportive environment is perfect for anyone affected by a loved one’s cancer diagnosis. The group is both educational and encouraging in nature. It provides a venue for caregivers to vent their frustrations and seek support from others in a similar situation. Anticipatory grief\, intimacy issues\, and other familial concerns are discussed. \n\n\n\n\n\n\n\n\n\n 
URL:https://wespark.org/event/caregivers-support-group/2022-07-26/
ATTACH;FMTTYPE=image/jpeg:https://wespark.org/wp-content/uploads/2021/02/Caregiver-SG-12X6-2.jpg
END:VEVENT
BEGIN:VEVENT
DTSTART;TZID=America/Los_Angeles:20220726T180000
DTEND;TZID=America/Los_Angeles:20220726T190000
DTSTAMP:20260422T020729
CREATED:20220304T195453Z
LAST-MODIFIED:20221003T193735Z
UID:10010970-1658858400-1658862000@wespark.org
SUMMARY:Caregivers Support Group
DESCRIPTION:This supportive environment is perfect for anyone affected by a loved one’s cancer diagnosis. The group is both educational and encouraging in nature. It provides a venue for caregivers to vent their frustrations and seek support from others in a similar situation. Anticipatory grief\, intimacy issues\, and other familial concerns are discussed. \n\n\n\n\n\n\n\n\n\n 
URL:https://wespark.org/event/caregivers-support-group-2022/2022-07-26/
ATTACH;FMTTYPE=image/jpeg:https://wespark.org/wp-content/uploads/2021/02/Caregiver-SG-12X6-2.jpg
END:VEVENT
END:VCALENDAR