BEGIN:VCALENDAR
VERSION:2.0
PRODID:-//WeSPARK - ECPv6.15.17.1//NONSGML v1.0//EN
CALSCALE:GREGORIAN
METHOD:PUBLISH
X-WR-CALNAME:WeSPARK
X-ORIGINAL-URL:https://wespark.org
X-WR-CALDESC:Events for WeSPARK
REFRESH-INTERVAL;VALUE=DURATION:PT1H
X-Robots-Tag:noindex
X-PUBLISHED-TTL:PT1H
BEGIN:VTIMEZONE
TZID:America/Los_Angeles
BEGIN:DAYLIGHT
TZOFFSETFROM:-0800
TZOFFSETTO:-0700
TZNAME:PDT
DTSTART:20220313T100000
END:DAYLIGHT
BEGIN:STANDARD
TZOFFSETFROM:-0700
TZOFFSETTO:-0800
TZNAME:PST
DTSTART:20221106T090000
END:STANDARD
BEGIN:DAYLIGHT
TZOFFSETFROM:-0800
TZOFFSETTO:-0700
TZNAME:PDT
DTSTART:20230312T100000
END:DAYLIGHT
BEGIN:STANDARD
TZOFFSETFROM:-0700
TZOFFSETTO:-0800
TZNAME:PST
DTSTART:20231105T090000
END:STANDARD
BEGIN:DAYLIGHT
TZOFFSETFROM:-0800
TZOFFSETTO:-0700
TZNAME:PDT
DTSTART:20240310T100000
END:DAYLIGHT
BEGIN:STANDARD
TZOFFSETFROM:-0700
TZOFFSETTO:-0800
TZNAME:PST
DTSTART:20241103T090000
END:STANDARD
END:VTIMEZONE
BEGIN:VEVENT
DTSTART;TZID=America/Los_Angeles:20230215T103000
DTEND;TZID=America/Los_Angeles:20230215T113000
DTSTAMP:20260420T105844
CREATED:20230103T183503Z
LAST-MODIFIED:20230103T183503Z
UID:10011817-1676457000-1676460600@wespark.org
SUMMARY:Yoga with Michelle
DESCRIPTION:In-person Format\nJoin Michelle Rappaport for yoga in person at our center. \nThis is a gentle class for all levels\, for all people in all phases of their cancer journey. This movement class helps relieve anxiety and promotes better sleep \nSpace is limited so please register in advance to participate. This in-person class requires proof of full vaccination. \nRegister Now
URL:https://wespark.org/event/yoga-with-michelle-2/2023-02-15/
ATTACH;FMTTYPE=image/png:https://wespark.org/wp-content/uploads/2022/07/Yoga-with-Michelle-Web-2022-2.png
END:VEVENT
BEGIN:VEVENT
DTSTART;TZID=America/Los_Angeles:20230215T121500
DTEND;TZID=America/Los_Angeles:20230215T131500
DTSTAMP:20260420T105844
CREATED:20230103T183720Z
LAST-MODIFIED:20230103T184003Z
UID:10011885-1676463300-1676466900@wespark.org
SUMMARY:Guided Imagery
DESCRIPTION:Virtual Format\n\n\nThis in-demand guided journey continues. Join Cheryl for a relaxing practice that will leave you rested and ready to take on the rest of your day. Each month introduces a new theme. \n\n\n\n\n\n\n\n\n\n 
URL:https://wespark.org/event/guided-imagery-2023/2023-02-15/
ATTACH;FMTTYPE=image/jpeg:https://wespark.org/wp-content/uploads/2020/11/Guided-Imagery-12X6-2.jpg
END:VEVENT
BEGIN:VEVENT
DTSTART;TZID=America/Los_Angeles:20230215T133000
DTEND;TZID=America/Los_Angeles:20230215T143000
DTSTAMP:20260420T105844
CREATED:20230103T184219Z
LAST-MODIFIED:20231120T193808Z
UID:10011990-1676467800-1676471400@wespark.org
SUMMARY:Gentle Yoga
DESCRIPTION:Virtual Format\n\nJoin Raminderpreet Elisa for a weekly afternoon of movement\, breathing and stretches with cancer patients in mind. Yoga eases the side effects of treatment\, improves sleep and fatigue. Patients\, survivors\, their loved ones are welcome to this movement class. Space is limited\, so please register to reserve your spot and receive the link for the class. Raminderpreet Elisa is a 20 plus years Yoga Therapist and creator of the award-winning documentary\, Your Brain\, Your Body\, Your Breath: The Science of Yoga Therapy.  \nRegister Now\n\n\n\n\n\n\n\n\n\n\n 
URL:https://wespark.org/event/gentle-yoga-2023/2023-02-15/
ATTACH;FMTTYPE=image/png:https://wespark.org/wp-content/uploads/2021/08/Gental-Yoga.png
END:VEVENT
BEGIN:VEVENT
DTSTART;TZID=America/Los_Angeles:20230215T143000
DTEND;TZID=America/Los_Angeles:20230215T153000
DTSTAMP:20260420T105844
CREATED:20230103T185450Z
LAST-MODIFIED:20231215T205050Z
UID:10012148-1676471400-1676475000@wespark.org
SUMMARY:In Treatment Support Group
DESCRIPTION:Virtual Format\n\nThis group is designed for people diagnosed with cancer who are in any stage of treatment. This includes people with impending surgery and those undergoing radiation and/or chemotherapy. This group provides a warm and safe environment and focuses on issues such as medical treatment\, clinical trials\, fear and anxiety\, and familial relationships. \n\n\n\n\n\n\n\n\n\n 
URL:https://wespark.org/event/in-treatment-support-group-2023/2023-02-15/
ATTACH;FMTTYPE=image/jpeg:https://wespark.org/wp-content/uploads/2021/02/In-Treatments-SG-2-1.jpg
END:VEVENT
BEGIN:VEVENT
DTSTART;TZID=America/Los_Angeles:20230215T173000
DTEND;TZID=America/Los_Angeles:20230215T183000
DTSTAMP:20260420T105844
CREATED:20230103T185738Z
LAST-MODIFIED:20230103T185759Z
UID:10012308-1676482200-1676485800@wespark.org
SUMMARY:Partner Grief Support Group
DESCRIPTION:Virtual Format\n\nThis co-ed support group for spouses and life partners provides a safe place for people who have lost their loved one to cancer. In the company of others who are going through similar loss\, we can find understanding and hope which eases the pain of losing a loved one. \n\n\n\n\n\n\n\n\n\n\n 
URL:https://wespark.org/event/partner-grief-support-group-2023/2023-02-15/
ATTACH;FMTTYPE=image/jpeg:https://wespark.org/wp-content/uploads/2021/02/Partner-Grief-SG-1.jpg
END:VEVENT
BEGIN:VEVENT
DTSTART;TZID=America/Los_Angeles:20230215T180000
DTEND;TZID=America/Los_Angeles:20230215T190000
DTSTAMP:20260420T105844
CREATED:20230103T193441Z
LAST-MODIFIED:20230523T164102Z
UID:10012370-1676484000-1676487600@wespark.org
SUMMARY:Grupo de Apoyo en español
DESCRIPTION:Formato Virtual\n\nUsted no está solo\, venga y hable con otras familias en la comunidad hispana que también están pasando por lo mismo. Venga con preguntas. Obtenga recursos. Pacientes con cáncer\, miembros de la familia\, y cuidadores. ¡Todos son bienvenidos! \n\n\n\n\n\n\n\n\n\n 
URL:https://wespark.org/event/grupo-de-apoyo-en-espanol-4/2023-02-15/
ATTACH;FMTTYPE=image/png:https://wespark.org/wp-content/uploads/2021/01/Spanish-Program-Grupo-de-Apoyo.png
END:VEVENT
BEGIN:VEVENT
DTSTART;TZID=America/Los_Angeles:20230215T180000
DTEND;TZID=America/Los_Angeles:20230215T190000
DTSTAMP:20260420T105844
CREATED:20230103T193626Z
LAST-MODIFIED:20230103T193742Z
UID:10012530-1676484000-1676487600@wespark.org
SUMMARY:Family Grief Support Group
DESCRIPTION:Virtual Format\n\nThis support group is for people who have lost a family member (other than a spouse or partner) or friend to cancer. By discussing fears\, anxieties and the loneliness of loss\, one can find hope and acceptance. In the company of others who are going through similar loss\, we can find understanding which eases the pain of losing a loved one. \n\n\n\n\n\n\n\n\n\n 
URL:https://wespark.org/event/family-grief-support-group-2023/2023-02-15/
ATTACH;FMTTYPE=image/jpeg:https://wespark.org/wp-content/uploads/2021/02/Family-Grief-SG-12X6-2.jpg
END:VEVENT
END:VCALENDAR