BEGIN:VCALENDAR
VERSION:2.0
PRODID:-//WeSPARK - ECPv6.15.17.1//NONSGML v1.0//EN
CALSCALE:GREGORIAN
METHOD:PUBLISH
X-WR-CALNAME:WeSPARK
X-ORIGINAL-URL:https://wespark.org
X-WR-CALDESC:Events for WeSPARK
REFRESH-INTERVAL;VALUE=DURATION:PT1H
X-Robots-Tag:noindex
X-PUBLISHED-TTL:PT1H
BEGIN:VTIMEZONE
TZID:America/Los_Angeles
BEGIN:DAYLIGHT
TZOFFSETFROM:-0800
TZOFFSETTO:-0700
TZNAME:PDT
DTSTART:20230312T100000
END:DAYLIGHT
BEGIN:STANDARD
TZOFFSETFROM:-0700
TZOFFSETTO:-0800
TZNAME:PST
DTSTART:20231105T090000
END:STANDARD
BEGIN:DAYLIGHT
TZOFFSETFROM:-0800
TZOFFSETTO:-0700
TZNAME:PDT
DTSTART:20240310T100000
END:DAYLIGHT
BEGIN:STANDARD
TZOFFSETFROM:-0700
TZOFFSETTO:-0800
TZNAME:PST
DTSTART:20241103T090000
END:STANDARD
BEGIN:DAYLIGHT
TZOFFSETFROM:-0800
TZOFFSETTO:-0700
TZNAME:PDT
DTSTART:20250309T100000
END:DAYLIGHT
BEGIN:STANDARD
TZOFFSETFROM:-0700
TZOFFSETTO:-0800
TZNAME:PST
DTSTART:20251102T090000
END:STANDARD
END:VTIMEZONE
BEGIN:VEVENT
DTSTART;TZID=America/Los_Angeles:20240320T103000
DTEND;TZID=America/Los_Angeles:20240320T113000
DTSTAMP:20260423T041458
CREATED:20231215T200457Z
LAST-MODIFIED:20240923T221424Z
UID:10014695-1710930600-1710934200@wespark.org
SUMMARY:Yoga with Michelle
DESCRIPTION:In-person Format\nJoin Michelle Rappaport for yoga in person at our center. \nThis is a gentle class for all levels\, for all people in all phases of their cancer journey. This movement class helps relieve anxiety and promotes better sleep \nSpace is limited so please register in advance to participate. Please call us at 818.906.3022 or email us to signup. \nEMAIL US
URL:https://wespark.org/event/yoga-with-michelle-2024/2024-03-20/
ATTACH;FMTTYPE=image/png:https://wespark.org/wp-content/uploads/2022/07/Yoga-with-Michelle-Web-2022-2.png
END:VEVENT
BEGIN:VEVENT
DTSTART;TZID=America/Los_Angeles:20240320T130000
DTEND;TZID=America/Los_Angeles:20240320T140000
DTSTAMP:20260423T041458
CREATED:20231215T204820Z
LAST-MODIFIED:20231215T204849Z
UID:10014762-1710939600-1710943200@wespark.org
SUMMARY:Guided Imagery
DESCRIPTION:Virtual Format\n\n\nThis in-demand guided journey continues. Join Cheryl for a relaxing practice that will leave you rested and ready to take on the rest of your day. Each month introduces a new theme. \n\n\n\n\n\n\n\n\n\n 
URL:https://wespark.org/event/guided-imagery-2024/2024-03-20/
ATTACH;FMTTYPE=image/jpeg:https://wespark.org/wp-content/uploads/2020/11/Guided-Imagery-12X6-2.jpg
END:VEVENT
BEGIN:VEVENT
DTSTART;TZID=America/Los_Angeles:20240320T143000
DTEND;TZID=America/Los_Angeles:20240320T153000
DTSTAMP:20260423T041458
CREATED:20231215T205608Z
LAST-MODIFIED:20231215T205622Z
UID:10014864-1710945000-1710948600@wespark.org
SUMMARY:In Treatment Support Group
DESCRIPTION:Virtual Format\n\nThis group is designed for people diagnosed with cancer who are in any stage of treatment. This includes people with impending surgery and those undergoing radiation and/or chemotherapy. This group provides a warm and safe environment and focuses on issues such as medical treatment\, clinical trials\, fear and anxiety\, and familial relationships. \n\n\n\n\n\n\n\n\n\n 
URL:https://wespark.org/event/in-treatment-support-group-2024/2024-03-20/
ATTACH;FMTTYPE=image/jpeg:https://wespark.org/wp-content/uploads/2021/02/In-Treatments-SG-2-1.jpg
END:VEVENT
BEGIN:VEVENT
DTSTART;TZID=America/Los_Angeles:20240320T143000
DTEND;TZID=America/Los_Angeles:20240320T153000
DTSTAMP:20260423T041458
CREATED:20240221T175045Z
LAST-MODIFIED:20240318T162459Z
UID:10015596-1710945000-1710948600@wespark.org
SUMMARY:In Treatment Support Group - In Person
DESCRIPTION:  \nIn-person Format on March 20\n\nThis group is designed for people diagnosed with cancer who are in any stage of treatment. This includes people with impending surgery and those undergoing radiation and/or chemotherapy. This group provides a warm and safe environment and focuses on issues such as medical treatment\, clinical trials\, fear and anxiety\, and familial relationships.\nJoin us at our Center in Sherman Oaks.
URL:https://wespark.org/event/in-treatment-support-group-in-person-2024-03/
CATEGORIES:rsvp,thisweek
ATTACH;FMTTYPE=image/jpeg:https://wespark.org/wp-content/uploads/2021/02/In-Treatments-SG-2-1.jpg
END:VEVENT
BEGIN:VEVENT
DTSTART;TZID=America/Los_Angeles:20240320T173000
DTEND;TZID=America/Los_Angeles:20240320T183000
DTSTAMP:20260423T041458
CREATED:20240102T234147Z
LAST-MODIFIED:20240320T193026Z
UID:10014918-1710955800-1710959400@wespark.org
SUMMARY:Partner Grief Support Group
DESCRIPTION:Virtual Format\n\nThis co-ed support group for spouses and life partners provides a safe place for people who have lost their loved one to cancer. In the company of others who are going through similar loss\, we can find understanding and hope which eases the pain of losing a loved one. \n\n\n\n\n\n\n\n\n\n\n\n 
URL:https://wespark.org/event/partner-grief-support-group/2024-03-20/
ATTACH;FMTTYPE=image/jpeg:https://wespark.org/wp-content/uploads/2021/02/Partner-Grief-SG-1.jpg
END:VEVENT
BEGIN:VEVENT
DTSTART;TZID=America/Los_Angeles:20240320T180000
DTEND;TZID=America/Los_Angeles:20240320T190000
DTSTAMP:20260423T041458
CREATED:20240102T234746Z
LAST-MODIFIED:20240102T234822Z
UID:10015021-1710957600-1710961200@wespark.org
SUMMARY:Family Grief Support Group
DESCRIPTION:Virtual Format\n\nThis support group is for people who have lost a family member (other than a spouse or partner) or friend to cancer. By discussing fears\, anxieties and the loneliness of loss\, one can find hope and acceptance. In the company of others who are going through similar loss\, we can find understanding which eases the pain of losing a loved one.\n\n\n\n\n\n\n\n\n\n\n 
URL:https://wespark.org/event/family-grief-support-group-2024/2024-03-20/
ATTACH;FMTTYPE=image/jpeg:https://wespark.org/wp-content/uploads/2021/02/Family-Grief-SG-12X6-2.jpg
END:VEVENT
END:VCALENDAR