BEGIN:VCALENDAR
VERSION:2.0
PRODID:-//WeSPARK - ECPv6.15.17.1//NONSGML v1.0//EN
CALSCALE:GREGORIAN
METHOD:PUBLISH
X-ORIGINAL-URL:https://wespark.org
X-WR-CALDESC:Events for WeSPARK
REFRESH-INTERVAL;VALUE=DURATION:PT1H
X-Robots-Tag:noindex
X-PUBLISHED-TTL:PT1H
BEGIN:VTIMEZONE
TZID:America/Los_Angeles
BEGIN:DAYLIGHT
TZOFFSETFROM:-0800
TZOFFSETTO:-0700
TZNAME:PDT
DTSTART:20230312T100000
END:DAYLIGHT
BEGIN:STANDARD
TZOFFSETFROM:-0700
TZOFFSETTO:-0800
TZNAME:PST
DTSTART:20231105T090000
END:STANDARD
BEGIN:DAYLIGHT
TZOFFSETFROM:-0800
TZOFFSETTO:-0700
TZNAME:PDT
DTSTART:20240310T100000
END:DAYLIGHT
BEGIN:STANDARD
TZOFFSETFROM:-0700
TZOFFSETTO:-0800
TZNAME:PST
DTSTART:20241103T090000
END:STANDARD
BEGIN:DAYLIGHT
TZOFFSETFROM:-0800
TZOFFSETTO:-0700
TZNAME:PDT
DTSTART:20250309T100000
END:DAYLIGHT
BEGIN:STANDARD
TZOFFSETFROM:-0700
TZOFFSETTO:-0800
TZNAME:PST
DTSTART:20251102T090000
END:STANDARD
END:VTIMEZONE
BEGIN:VEVENT
DTSTART;TZID=America/Los_Angeles:20240325T120000
DTEND;TZID=America/Los_Angeles:20240325T130000
DTSTAMP:20260420T192415
CREATED:20240325T170540Z
LAST-MODIFIED:20240325T170540Z
UID:10015600-1711368000-1711371600@wespark.org
SUMMARY:Tai Chi
DESCRIPTION:with Nancy Hamill\n\n\nIn-person Format\nPlease join us for Tai Chi\, a slow-flowing exercise often referred to as a moving meditation. It is a graceful\, gentle exercise that anyone can learn to do. In March out theme is Spring Serenity. \nTai Chi can benefit the mind and body\, help reduce stress\, improve balance and coordination\, enhance memory\, lower blood pressure and improve circulation. Beginners are welcome! \n\nPlease call us at 818.906.3022 or email us to register early to reserve your spot for in-person program. \n\nEMAIL US
URL:https://wespark.org/event/tai-chi-2024-03-3/
CATEGORIES:rsvp,thisweek
ATTACH;FMTTYPE=image/jpeg:https://wespark.org/wp-content/uploads/2021/01/AdobeStock_214419069-Tai-Chi.jpg
END:VEVENT
END:VCALENDAR