BEGIN:VCALENDAR
VERSION:2.0
PRODID:-//WeSPARK - ECPv6.15.17.1//NONSGML v1.0//EN
CALSCALE:GREGORIAN
METHOD:PUBLISH
X-ORIGINAL-URL:https://wespark.org
X-WR-CALDESC:Events for WeSPARK
REFRESH-INTERVAL;VALUE=DURATION:PT1H
X-Robots-Tag:noindex
X-PUBLISHED-TTL:PT1H
BEGIN:VTIMEZONE
TZID:America/Los_Angeles
BEGIN:DAYLIGHT
TZOFFSETFROM:-0800
TZOFFSETTO:-0700
TZNAME:PDT
DTSTART:20230312T100000
END:DAYLIGHT
BEGIN:STANDARD
TZOFFSETFROM:-0700
TZOFFSETTO:-0800
TZNAME:PST
DTSTART:20231105T090000
END:STANDARD
BEGIN:DAYLIGHT
TZOFFSETFROM:-0800
TZOFFSETTO:-0700
TZNAME:PDT
DTSTART:20240310T100000
END:DAYLIGHT
BEGIN:STANDARD
TZOFFSETFROM:-0700
TZOFFSETTO:-0800
TZNAME:PST
DTSTART:20241103T090000
END:STANDARD
BEGIN:DAYLIGHT
TZOFFSETFROM:-0800
TZOFFSETTO:-0700
TZNAME:PDT
DTSTART:20250309T100000
END:DAYLIGHT
BEGIN:STANDARD
TZOFFSETFROM:-0700
TZOFFSETTO:-0800
TZNAME:PST
DTSTART:20251102T090000
END:STANDARD
END:VTIMEZONE
BEGIN:VEVENT
DTSTART;TZID=America/Los_Angeles:20241210T123000
DTEND;TZID=America/Los_Angeles:20241210T133000
DTSTAMP:20260420T074815
CREATED:20240701T224209Z
LAST-MODIFIED:20241021T223318Z
UID:10016622-1733833800-1733837400@wespark.org
SUMMARY:Yoga with Milva
DESCRIPTION:Virtual Format\nAre you ready for yoga\, a movement practice that connects the body\, breath\, and mind\, on Tuesday afternoon? Join Milva for stretching and breathing techniques to decrease stress and anxiety while creating a sense of calmness. Participants of all fitness levels are welcome. \nAdditionally\, Milva is a Spanish speaker\, so Spanish instruction will also be available. \nSpace is limited so please register in advance to participate. Please call us at 818.906.3022 or email us to signup. \nEMAIL US
URL:https://wespark.org/event/yoga-with-milva/2024-12-10/
ATTACH;FMTTYPE=image/png:https://wespark.org/wp-content/uploads/2024/07/Yoga-with-man-and-cat.png
END:VEVENT
END:VCALENDAR