BEGIN:VCALENDAR
VERSION:2.0
PRODID:-//WeSPARK - ECPv6.15.17.1//NONSGML v1.0//EN
CALSCALE:GREGORIAN
METHOD:PUBLISH
X-ORIGINAL-URL:https://wespark.org
X-WR-CALDESC:Events for WeSPARK
REFRESH-INTERVAL;VALUE=DURATION:PT1H
X-Robots-Tag:noindex
X-PUBLISHED-TTL:PT1H
BEGIN:VTIMEZONE
TZID:America/Los_Angeles
BEGIN:DAYLIGHT
TZOFFSETFROM:-0800
TZOFFSETTO:-0700
TZNAME:PDT
DTSTART:20240310T100000
END:DAYLIGHT
BEGIN:STANDARD
TZOFFSETFROM:-0700
TZOFFSETTO:-0800
TZNAME:PST
DTSTART:20241103T090000
END:STANDARD
BEGIN:DAYLIGHT
TZOFFSETFROM:-0800
TZOFFSETTO:-0700
TZNAME:PDT
DTSTART:20250309T100000
END:DAYLIGHT
BEGIN:STANDARD
TZOFFSETFROM:-0700
TZOFFSETTO:-0800
TZNAME:PST
DTSTART:20251102T090000
END:STANDARD
BEGIN:DAYLIGHT
TZOFFSETFROM:-0800
TZOFFSETTO:-0700
TZNAME:PDT
DTSTART:20260308T100000
END:DAYLIGHT
BEGIN:STANDARD
TZOFFSETFROM:-0700
TZOFFSETTO:-0800
TZNAME:PST
DTSTART:20261101T090000
END:STANDARD
END:VTIMEZONE
BEGIN:VEVENT
DTSTART;TZID=America/Los_Angeles:20250102T101500
DTEND;TZID=America/Los_Angeles:20250102T111500
DTSTAMP:20260420T143625
CREATED:20241217T185011Z
LAST-MODIFIED:20241217T185011Z
UID:10016668-1735812900-1735816500@wespark.org
SUMMARY:Ongoing Treatment Support Group
DESCRIPTION:on Zoom\n\nThis nurturing group focuses on issues relevant to those with a metastatic\, advanced diagnosis of cancer such as how to be a better advocate as well as enhance the quality of one’s life. Other issues discussed are body image\, familial concerns\, symptom management\, pain control\, anticipatory grief\, and anxiety.
URL:https://wespark.org/event/ongoing-treatment-support-group-2025/2025-01-02/
ATTACH;FMTTYPE=image/jpeg:https://wespark.org/wp-content/uploads/2021/02/Ongoing-Treatment-and-Metastatic-SG-1.jpg
END:VEVENT
BEGIN:VEVENT
DTSTART;TZID=America/Los_Angeles:20250102T140000
DTEND;TZID=America/Los_Angeles:20250102T150000
DTSTAMP:20260420T143625
CREATED:20241217T185323Z
LAST-MODIFIED:20241217T185323Z
UID:10016720-1735826400-1735830000@wespark.org
SUMMARY:Men's Support Group
DESCRIPTION:with Stephen Lottenberg\, MD\, PsyD\nZoom Format\n\nLed by a physician and therapist\, this group is for men in all stages of a cancer diagnosis\, treatment\, or after treatment. Learn strategies for coping with diagnosis\, side effects from treatment\, fear and anxiety and familial relationships.\n \n\n\n\n\n\n\n\n\n\n\n 
URL:https://wespark.org/event/mens-support-group-2025/2025-01-02/
ATTACH;FMTTYPE=image/jpeg:https://wespark.org/wp-content/uploads/2021/02/Mens-SG-1.jpg
END:VEVENT
BEGIN:VEVENT
DTSTART;TZID=America/Los_Angeles:20250102T170000
DTEND;TZID=America/Los_Angeles:20250102T180000
DTSTAMP:20260420T143625
CREATED:20241217T185747Z
LAST-MODIFIED:20241217T185747Z
UID:10016772-1735837200-1735840800@wespark.org
SUMMARY:Doing Cancer Solo Support Group
DESCRIPTION:Zoom Format\n\nThis is a group for anyone who feels like they are facing cancer alone- either without the support of a partner\, or a family. We will share tools and strategies that help to differentiate between feelings and circumstances\, while helping to deepen connections to ourselves and creating community.\n\n\n\n\n\n\n\n\n\n\n 
URL:https://wespark.org/event/doing-cancer-solo-support-group-2025/2025-01-02/
ATTACH;FMTTYPE=image/jpeg:https://wespark.org/wp-content/uploads/2021/02/Doing-Cancer-Solo-SG-2021-12X6-2.jpg
END:VEVENT
END:VCALENDAR