BEGIN:VCALENDAR
VERSION:2.0
PRODID:-//WeSPARK - ECPv6.15.17.1//NONSGML v1.0//EN
CALSCALE:GREGORIAN
METHOD:PUBLISH
X-ORIGINAL-URL:https://wespark.org
X-WR-CALDESC:Events for WeSPARK
REFRESH-INTERVAL;VALUE=DURATION:PT1H
X-Robots-Tag:noindex
X-PUBLISHED-TTL:PT1H
BEGIN:VTIMEZONE
TZID:America/Los_Angeles
BEGIN:DAYLIGHT
TZOFFSETFROM:-0800
TZOFFSETTO:-0700
TZNAME:PDT
DTSTART:20240310T100000
END:DAYLIGHT
BEGIN:STANDARD
TZOFFSETFROM:-0700
TZOFFSETTO:-0800
TZNAME:PST
DTSTART:20241103T090000
END:STANDARD
BEGIN:DAYLIGHT
TZOFFSETFROM:-0800
TZOFFSETTO:-0700
TZNAME:PDT
DTSTART:20250309T100000
END:DAYLIGHT
BEGIN:STANDARD
TZOFFSETFROM:-0700
TZOFFSETTO:-0800
TZNAME:PST
DTSTART:20251102T090000
END:STANDARD
BEGIN:DAYLIGHT
TZOFFSETFROM:-0800
TZOFFSETTO:-0700
TZNAME:PDT
DTSTART:20260308T100000
END:DAYLIGHT
BEGIN:STANDARD
TZOFFSETFROM:-0700
TZOFFSETTO:-0800
TZNAME:PST
DTSTART:20261101T090000
END:STANDARD
END:VTIMEZONE
BEGIN:VEVENT
DTSTART;TZID=America/Los_Angeles:20250319T103000
DTEND;TZID=America/Los_Angeles:20250319T113000
DTSTAMP:20260420T105220
CREATED:20241217T191243Z
LAST-MODIFIED:20241217T191303Z
UID:10017008-1742380200-1742383800@wespark.org
SUMMARY:Yoga with Michelle
DESCRIPTION:With Michelle Rappaport\nIn-person Format\nJoin Michelle for yoga in person at our center. \nThis is a gentle class for all levels\, for all people in all phases of their cancer journey. This movement class helps relieve anxiety and promotes better sleep \nSpace is limited so please register in advance to participate. Please call us at 818.906.3022 or email us to signup. \nEMAIL US
URL:https://wespark.org/event/yoga-with-michelle-2025/2025-03-19/
ATTACH;FMTTYPE=image/png:https://wespark.org/wp-content/uploads/2022/07/Yoga-with-Michelle-Web-2022-2.png
END:VEVENT
BEGIN:VEVENT
DTSTART;TZID=America/Los_Angeles:20250319T130000
DTEND;TZID=America/Los_Angeles:20250319T140000
DTSTAMP:20260420T105220
CREATED:20241217T191848Z
LAST-MODIFIED:20241217T191848Z
UID:10017109-1742389200-1742392800@wespark.org
SUMMARY:Guided Imagery
DESCRIPTION:with Cheryl O’Neil\nVirtual Format\n\n\nThis in-demand guided journey continues. Join Cheryl for a relaxing practice that will leave you rested and ready to take on the rest of your day. Each month introduces a new theme. \n\n\n\n\n\n\n\n\n\n 
URL:https://wespark.org/event/guided-imagery-2025/2025-03-19/
ATTACH;FMTTYPE=image/jpeg:https://wespark.org/wp-content/uploads/2020/11/Guided-Imagery-12X6-2.jpg
END:VEVENT
BEGIN:VEVENT
DTSTART;TZID=America/Los_Angeles:20250319T150000
DTEND;TZID=America/Los_Angeles:20250319T160000
DTSTAMP:20260420T105220
CREATED:20250127T184024Z
LAST-MODIFIED:20250127T184126Z
UID:10017530-1742396400-1742400000@wespark.org
SUMMARY:In Treatment Support Group
DESCRIPTION:Virtual Format\n\nThis group is designed for people diagnosed with cancer who are in any stage of treatment. This includes people with impending surgery and those undergoing radiation and/or chemotherapy. This group provides a warm and safe environment and focuses on issues such as medical treatment\, clinical trials\, fear and anxiety\, and familial relationships.\n\n\n\n\n\n\n\n\n\n\n 
URL:https://wespark.org/event/in-treatment-support-group-2/2025-03-19/
ATTACH;FMTTYPE=image/jpeg:https://wespark.org/wp-content/uploads/2021/02/In-Treatments-SG-2-1.jpg
END:VEVENT
BEGIN:VEVENT
DTSTART;TZID=America/Los_Angeles:20250319T173000
DTEND;TZID=America/Los_Angeles:20250319T183000
DTSTAMP:20260420T105220
CREATED:20250127T183731Z
LAST-MODIFIED:20250127T183731Z
UID:10017423-1742405400-1742409000@wespark.org
SUMMARY:Partner Grief Support Group
DESCRIPTION:Virtual Format\n\nThis co-ed support group for spouses and life partners provides a safe place for people who have lost their loved one to cancer. In the company of others who are going through similar loss\, we can find understanding and hope which eases the pain of losing a loved one. \n\n\n\n\n\n\n\n\n\n\n\n 
URL:https://wespark.org/event/partner-grief-support-group-5/2025-03-19/
ATTACH;FMTTYPE=image/jpeg:https://wespark.org/wp-content/uploads/2021/02/Partner-Grief-SG-1.jpg
END:VEVENT
BEGIN:VEVENT
DTSTART;TZID=America/Los_Angeles:20250319T180000
DTEND;TZID=America/Los_Angeles:20250319T190000
DTSTAMP:20260420T105220
CREATED:20250121T232539Z
LAST-MODIFIED:20250407T223356Z
UID:10017923-1742407200-1742410800@wespark.org
SUMMARY:Care Partners
DESCRIPTION:Virtual Format\n\n\nWith Jean Griffin Borho\, LCSW\, MA\n\nJoin therapist Jean Griffin Borho for the Care Partners support group for family and friends who are caring for a loved one with cancer.  \nYou will find a compassionate space to get support\, practical info and understanding. Together\, we find ways to reduce isolation and worry and provide emotional support and understanding.\nLet us support you while you support your loved one. \n\n\nPlease reserve your spot for Care Partners by calling 818.906.3022 or emailing us using the button below. \n\n\n\nEMAIL US
URL:https://wespark.org/event/care-partners-2025/2025-03-19/
ATTACH;FMTTYPE=image/png:https://wespark.org/wp-content/uploads/2024/08/Care-Partners-12X8.png
END:VEVENT
BEGIN:VEVENT
DTSTART;TZID=America/Los_Angeles:20250319T180000
DTEND;TZID=America/Los_Angeles:20250319T190000
DTSTAMP:20260420T105220
CREATED:20250127T184357Z
LAST-MODIFIED:20250127T184357Z
UID:10017630-1742407200-1742410800@wespark.org
SUMMARY:Family Grief Support Group
DESCRIPTION:Virtual Format\n\nThis support group is for people who have lost a family member (other than a spouse or partner) or friend to cancer. By discussing fears\, anxieties and the loneliness of loss\, one can find hope and acceptance. In the company of others who are going through similar loss\, we can find understanding which eases the pain of losing a loved one.\n\n\n\n\n\n\n\n\n\n\n 
URL:https://wespark.org/event/family-grief-support-group-2/2025-03-19/
ATTACH;FMTTYPE=image/jpeg:https://wespark.org/wp-content/uploads/2021/02/Family-Grief-SG-12X6-2.jpg
END:VEVENT
BEGIN:VEVENT
DTSTART;TZID=America/Los_Angeles:20250319T180000
DTEND;TZID=America/Los_Angeles:20250319T193000
DTSTAMP:20260420T105220
CREATED:20250317T164903Z
LAST-MODIFIED:20250521T182849Z
UID:10017170-1742407200-1742412600@wespark.org
SUMMARY:Care Partners
DESCRIPTION:Virtual Format\n\n\nWith Jean Griffin Borho\, LCSW\, MA\nJoin therapist Jean Griffin Borho for the Care Partners support group for family and friends who are caring for a loved one with cancer. \nYou will find a compassionate space to get support\, practical info and understanding. Together\, we find ways to reduce isolation and worry and provide emotional support and understanding.\nLet us support you while you support your loved one. \n\n\nPlease reserve your spot for Care Partners by calling 818.906.3022 or emailing us using the button below. \n\n\n\nEMAIL US
URL:https://wespark.org/event/care-partners-2025-4/2025-03-19/
CATEGORIES:rsvp,thisweek
ATTACH;FMTTYPE=image/png:https://wespark.org/wp-content/uploads/2024/08/Care-Partners-12X8.png
END:VEVENT
END:VCALENDAR