BEGIN:VCALENDAR
VERSION:2.0
PRODID:-//WeSPARK - ECPv6.15.17.1//NONSGML v1.0//EN
CALSCALE:GREGORIAN
METHOD:PUBLISH
X-WR-CALNAME:WeSPARK
X-ORIGINAL-URL:https://wespark.org
X-WR-CALDESC:Events for WeSPARK
REFRESH-INTERVAL;VALUE=DURATION:PT1H
X-Robots-Tag:noindex
X-PUBLISHED-TTL:PT1H
BEGIN:VTIMEZONE
TZID:America/Los_Angeles
BEGIN:DAYLIGHT
TZOFFSETFROM:-0800
TZOFFSETTO:-0700
TZNAME:PDT
DTSTART:20230312T100000
END:DAYLIGHT
BEGIN:STANDARD
TZOFFSETFROM:-0700
TZOFFSETTO:-0800
TZNAME:PST
DTSTART:20231105T090000
END:STANDARD
BEGIN:DAYLIGHT
TZOFFSETFROM:-0800
TZOFFSETTO:-0700
TZNAME:PDT
DTSTART:20240310T100000
END:DAYLIGHT
BEGIN:STANDARD
TZOFFSETFROM:-0700
TZOFFSETTO:-0800
TZNAME:PST
DTSTART:20241103T090000
END:STANDARD
BEGIN:DAYLIGHT
TZOFFSETFROM:-0800
TZOFFSETTO:-0700
TZNAME:PDT
DTSTART:20250309T100000
END:DAYLIGHT
BEGIN:STANDARD
TZOFFSETFROM:-0700
TZOFFSETTO:-0800
TZNAME:PST
DTSTART:20251102T090000
END:STANDARD
END:VTIMEZONE
BEGIN:VEVENT
DTSTART;TZID=America/Los_Angeles:20240920T113000
DTEND;TZID=America/Los_Angeles:20240920T123000
DTSTAMP:20260421T083111
CREATED:20240815T220335Z
LAST-MODIFIED:20240916T171752Z
UID:10016352-1726831800-1726835400@wespark.org
SUMMARY:Beyond Cancer: Building Resilience
DESCRIPTION:In-person Format\n\n\nWith Leila Costa\, LMFT\nPlease join Leila for an in-person meet-up for individuals in cancer treatment\, recovery\, or long-term survivors.  Participants will also have a chance to connect with peers\, share their experiences and enjoy a snack. \n\n\nPlease reserve your spot for Beyond Cancer by calling 818.906.3022 or emailing us using the button below. \n\n\nEMAIL US
URL:https://wespark.org/event/beyond-cancer-building-resilience/
CATEGORIES:rsvp,thisweek
ATTACH;FMTTYPE=image/png:https://wespark.org/wp-content/uploads/2023/01/2023-Beyond-Cancer-Series-Web.png
END:VEVENT
END:VCALENDAR