BEGIN:VCALENDAR
VERSION:2.0
PRODID:-//WeSPARK - ECPv6.15.17.1//NONSGML v1.0//EN
CALSCALE:GREGORIAN
METHOD:PUBLISH
X-ORIGINAL-URL:https://wespark.org
X-WR-CALDESC:Events for WeSPARK
REFRESH-INTERVAL;VALUE=DURATION:PT1H
X-Robots-Tag:noindex
X-PUBLISHED-TTL:PT1H
BEGIN:VTIMEZONE
TZID:America/Los_Angeles
BEGIN:DAYLIGHT
TZOFFSETFROM:-0800
TZOFFSETTO:-0700
TZNAME:PDT
DTSTART:20230312T100000
END:DAYLIGHT
BEGIN:STANDARD
TZOFFSETFROM:-0700
TZOFFSETTO:-0800
TZNAME:PST
DTSTART:20231105T090000
END:STANDARD
BEGIN:DAYLIGHT
TZOFFSETFROM:-0800
TZOFFSETTO:-0700
TZNAME:PDT
DTSTART:20240310T100000
END:DAYLIGHT
BEGIN:STANDARD
TZOFFSETFROM:-0700
TZOFFSETTO:-0800
TZNAME:PST
DTSTART:20241103T090000
END:STANDARD
BEGIN:DAYLIGHT
TZOFFSETFROM:-0800
TZOFFSETTO:-0700
TZNAME:PDT
DTSTART:20250309T100000
END:DAYLIGHT
BEGIN:STANDARD
TZOFFSETFROM:-0700
TZOFFSETTO:-0800
TZNAME:PST
DTSTART:20251102T090000
END:STANDARD
END:VTIMEZONE
BEGIN:VEVENT
DTSTART;TZID=America/Los_Angeles:20240401T120000
DTEND;TZID=America/Los_Angeles:20240401T130000
DTSTAMP:20260420T092304
CREATED:20240401T171700Z
LAST-MODIFIED:20240401T171700Z
UID:10015880-1711972800-1711976400@wespark.org
SUMMARY:Tai Chi
DESCRIPTION:with Nancy Hamill\n\n\nIn-person Format\nPlease join us for Tai Chi\, a slow-flowing exercise often referred to as a moving meditation. It is a graceful\, gentle exercise that anyone can learn to do. In April out theme is Flow. \nTai Chi can benefit the mind and body\, help reduce stress\, improve balance and coordination\, enhance memory\, lower blood pressure and improve circulation. Beginners are welcome! \n\nPlease call us at 818.906.3022 or email us to register early to reserve your spot for in-person program. \n\nEMAIL US
URL:https://wespark.org/event/tai-chi-2024-04-2/
CATEGORIES:rsvp,thisweek
ATTACH;FMTTYPE=image/jpeg:https://wespark.org/wp-content/uploads/2021/01/AdobeStock_214419069-Tai-Chi.jpg
END:VEVENT
BEGIN:VEVENT
DTSTART;TZID=America/Los_Angeles:20240403T160000
DTEND;TZID=America/Los_Angeles:20240403T170000
DTSTAMP:20260420T092304
CREATED:20240320T192528Z
LAST-MODIFIED:20240401T171912Z
UID:10015885-1712160000-1712163600@wespark.org
SUMMARY:Partner Grief Support Group: In Person
DESCRIPTION:In-Person Format\n\n\nThis co-ed support group for spouses and partners provides a safe place for people who have lost their loved one to cancer. In the company of others who are going through similar loss\, we can find understanding and hope which eases the pain of losing a loved one.
URL:https://wespark.org/event/partner-grief-support-group-in-person-2024-04/
LOCATION:WeSPARK Cancer Support Center\, 14724 Ventura Boulevard\, Suite 101\, Sherman Oaks\, CA\, 91403
CATEGORIES:rsvp,thisweek
ATTACH;FMTTYPE=image/jpeg:https://wespark.org/wp-content/uploads/2021/02/Partner-Grief-SG-1.jpg
END:VEVENT
BEGIN:VEVENT
DTSTART;TZID=America/Los_Angeles:20240405T100000
DTEND;TZID=America/Los_Angeles:20240405T110000
DTSTAMP:20260420T092304
CREATED:20240401T171946Z
LAST-MODIFIED:20240401T171947Z
UID:10015887-1712311200-1712314800@wespark.org
SUMMARY:Guided Imagery Friday
DESCRIPTION:with Valerie Luna\, C.Ht.\nVirtual Format\n\nThis in-demand guided journey continues. Join Valerie Luna on Fridays in February for Guided Imagery. This program is a fusion of Reiki and guided imagery and can help relieve stress\, reduce pain\, increase energy\, stabilize thoughts and create inner harmony. \nPlease call 818.906.3022 or email us at registration@wespark.org register for this featured program.
URL:https://wespark.org/event/guided-imagery-friday-2024-04-2/
CATEGORIES:rsvp,thisweek
ATTACH;FMTTYPE=image/png:https://wespark.org/wp-content/uploads/2023/09/2023-Reiki-GI.png
END:VEVENT
BEGIN:VEVENT
DTSTART;TZID=America/Los_Angeles:20240407T110000
DTEND;TZID=America/Los_Angeles:20240407T140000
DTSTAMP:20260420T092304
CREATED:20240320T182448Z
LAST-MODIFIED:20240401T172104Z
UID:10015883-1712487600-1712498400@wespark.org
SUMMARY:Transforming Hair Empowering Confidence
DESCRIPTION:In-person Format\n\nin Partnership with UCLA Gyn Oncology Survivorship Program\nwith Jerilynn Stephens & Team\nplease join us for Transforming Hair Empowering Confidence\, Hair Care for Life After Cancer Treatment\, an interactive conversation about everything you want to know about hair after cancer treatment. After the educational program\, we will break up into stations for consultations about brow filling\, wig fitting\, and scalp care. \nJerilynn Stephens is a Hollywood Hairstylist\, Wife\, Mom\, and Ovarian Cancer Survivor. She is a 2x Guild Award-Winning and 10x Emmy nominated hairstylist. She is the head hairstylist on The Voice\, Shark Tank\, Legendary\, That’s My Jam\, & other top rated shows. Her biggest accomplishment is beating Ovarian Cancer in 2021. \nPlease call us at 818.906.3022 or email us using the button below \n\n\nREGISTER NOW
URL:https://wespark.org/event/transforming-hair-empowering-confidence/
CATEGORIES:rsvp,thisweek
ATTACH;FMTTYPE=image/png:https://wespark.org/wp-content/uploads/2024/03/2024-Transforming-Hair-12X8-2.png
END:VEVENT
BEGIN:VEVENT
DTSTART;TZID=America/Los_Angeles:20240408T150000
DTEND;TZID=America/Los_Angeles:20240408T170000
DTSTAMP:20260420T092304
CREATED:20240320T203802Z
LAST-MODIFIED:20240408T172145Z
UID:10015891-1712588400-1712595600@wespark.org
SUMMARY:Paint & Play
DESCRIPTION:with Edgardo Gazcón\nIn-person Format\n\nPlease join Edgardo to let your creativity flow while having fun and connecting to our community. No prior experience is required.  Creative activities\, such as painting\, can help with stress and anxiety and improve an individual’s mood. \nThis workshop will be in English and español. \nPlease reserve your spot today for this fun and in-person workshop by calling us at 818.906.3022 or email us with the button below. \n\n\nEMAIL US
URL:https://wespark.org/event/paint-play-2024-04/
CATEGORIES:rsvp,thisweek
ATTACH;FMTTYPE=image/png:https://wespark.org/wp-content/uploads/2023/05/Paint-Play.png
END:VEVENT
BEGIN:VEVENT
DTSTART;TZID=America/Los_Angeles:20240409T180000
DTEND;TZID=America/Los_Angeles:20240409T190000
DTSTAMP:20260420T092304
CREATED:20240320T204718Z
LAST-MODIFIED:20240408T172541Z
UID:10015892-1712685600-1712689200@wespark.org
SUMMARY:Expressive Writing = Emotional Health Workshop
DESCRIPTION:With David Richman\n\nVirtual Format\nJoin author David Richman for an expressive writing workshop. You’ll learn about the power that writing has on emotional health. Participants can begin or continue their writing journey. Everyone is welcome.\n\nExplore your creative side and express yourself in a judgment-free\, connective\, empowering\, and supportive community.\n\nAll are welcome but you must register. Please call 818.906.3022 or email us using the button below to register early to reserve your spot for this virtual-only program.\n\n\nEmail Us
URL:https://wespark.org/event/expressive-writing-emotional-health-workshop-2024-04/
CATEGORIES:rsvp,thisweek
ATTACH;FMTTYPE=image/png:https://wespark.org/wp-content/uploads/2022/04/Expressive-Writing.png
END:VEVENT
BEGIN:VEVENT
DTSTART;TZID=America/Los_Angeles:20240412T100000
DTEND;TZID=America/Los_Angeles:20240412T110000
DTSTAMP:20260420T092304
CREATED:20240408T172941Z
LAST-MODIFIED:20240408T172941Z
UID:10015888-1712916000-1712919600@wespark.org
SUMMARY:Guided Imagery Friday
DESCRIPTION:with Valerie Luna\, C.Ht.\nVirtual Format\n\nThis in-demand guided journey continues. Join Valerie Luna on Fridays in February for Guided Imagery. This program is a fusion of Reiki and guided imagery and can help relieve stress\, reduce pain\, increase energy\, stabilize thoughts and create inner harmony. \nPlease call 818.906.3022 or email us at registration@wespark.org register for this featured program.
URL:https://wespark.org/event/guided-imagery-friday-2024-04-3/
CATEGORIES:rsvp,thisweek
ATTACH;FMTTYPE=image/png:https://wespark.org/wp-content/uploads/2023/09/2023-Reiki-GI.png
END:VEVENT
BEGIN:VEVENT
DTSTART;TZID=America/Los_Angeles:20240413T110000
DTEND;TZID=America/Los_Angeles:20240413T120000
DTSTAMP:20260420T092304
CREATED:20240408T173016Z
LAST-MODIFIED:20240408T173016Z
UID:10015896-1713006000-1713009600@wespark.org
SUMMARY:Intro to Yoga Nidra
DESCRIPTION:Four-Week Series\nwith Richard Brenner\nVirtual Format\nPlease join Richard Brenner for a four-week intro to Yoga Nidra\, a simple way to improve sleep\, declutter your mind\, and reduce anxiety and stress. Yoga Nidra\, “sleeping with awareness\,” was developed as a companion relaxation practice. \nRich Brenner began his journey into the healing arts\, studying Restorative Hypnotherapy\, Yoga\, Meditation\, Energy\, and Vibrational therapies before settling on the ancient practice of Yoga Nidra as his specialty. \nPlease don’t wait—reserve your spot. Call us at 818.906.3022 or email us using the button below. \nEmail Us to Register
URL:https://wespark.org/event/intro-to-yoga-nidra-3/
CATEGORIES:rsvp,thisweek
ATTACH;FMTTYPE=image/png:https://wespark.org/wp-content/uploads/2024/03/2024-Indira-Yoga-12X8.png
END:VEVENT
BEGIN:VEVENT
DTSTART;TZID=America/Los_Angeles:20240415T120000
DTEND;TZID=America/Los_Angeles:20240415T130000
DTSTAMP:20260420T092304
CREATED:20240320T191525Z
LAST-MODIFIED:20240415T170742Z
UID:10015884-1713182400-1713186000@wespark.org
SUMMARY:Belly Dance
DESCRIPTION:Magic & Movement\nwith Maryam\nIn-person Format\nJoin us for an interactive belly dance workshop. Maryam will guide participants through a series of beginner-friendly dance movements\, emphasizing posture and fluidity of movement. \nPlease don’t wait—reserve your spot. Call us at 818.906.3022 or email us using the button below. \nEmail Us to Register
URL:https://wespark.org/event/belly-dance/
CATEGORIES:rsvp,thisweek
ATTACH;FMTTYPE=image/png:https://wespark.org/wp-content/uploads/2024/03/2024-Belly-Dance-12X8.png
END:VEVENT
BEGIN:VEVENT
DTSTART;TZID=America/Los_Angeles:20240418T140000
DTEND;TZID=America/Los_Angeles:20240418T150000
DTSTAMP:20260420T092304
CREATED:20240325T171758Z
LAST-MODIFIED:20240415T171014Z
UID:10015953-1713448800-1713452400@wespark.org
SUMMARY:Men's Support Group In-Person
DESCRIPTION:with Stephen Lottenberg\, MD\, PsyD\nIn-person Format\n\nLed by a physician and therapist\, this group is for men in all stages of a cancer diagnosis\, treatment\, or after treatment. Learn strategies for coping with diagnosis\, side effects from treatment\, fear and anxiety and familial relationships.\nJoin us at our Center in Sherman Oaks.\n\n\n\n\n\n\n\n\n\n\n 
URL:https://wespark.org/event/mens-support-group-in-person-2024/
CATEGORIES:rsvp,thisweek
ATTACH;FMTTYPE=image/jpeg:https://wespark.org/wp-content/uploads/2021/02/Mens-SG-1.jpg
END:VEVENT
BEGIN:VEVENT
DTSTART;TZID=America/Los_Angeles:20240418T160000
DTEND;TZID=America/Los_Angeles:20240418T170000
DTSTAMP:20260420T092304
CREATED:20240321T210141Z
LAST-MODIFIED:20240415T171433Z
UID:10015900-1713456000-1713459600@wespark.org
SUMMARY:Strengthen & Stretch
DESCRIPTION:with Julia Morrow\, Certified Massage Therapist\, Lymphedema Therapist & Exercise Instructor\nIn-person Format\n\n\nJoin Julia for Strengthen & Stretch\, designed for people dealing with a cancer diagnosis\, surgery or treatment. \nRediscover your mobility and improve your muscle strength and balance. \nSpace is limited so please register in advance to participate. \n\n\n\nEMAIL US TO REGISTER
URL:https://wespark.org/event/strengthen-stretch-2024-04/
CATEGORIES:rsvp,thisweek
ATTACH;FMTTYPE=image/png:https://wespark.org/wp-content/uploads/2022/06/Strengthen-Stretch-2022-Web.png
END:VEVENT
BEGIN:VEVENT
DTSTART;TZID=America/Los_Angeles:20240420T110000
DTEND;TZID=America/Los_Angeles:20240420T120000
DTSTAMP:20260420T092304
CREATED:20240415T173446Z
LAST-MODIFIED:20240415T173447Z
UID:10015897-1713610800-1713614400@wespark.org
SUMMARY:Intro to Yoga Nidra
DESCRIPTION:Four-Week Series\nwith Richard Brenner\nVirtual Format\nPlease join Richard Brenner for a four-week intro to Yoga Nidra\, a simple way to improve sleep\, declutter your mind\, and reduce anxiety and stress. Yoga Nidra\, “sleeping with awareness\,” was developed as a companion relaxation practice. \nRich Brenner began his journey into the healing arts\, studying Restorative Hypnotherapy\, Yoga\, Meditation\, Energy\, and Vibrational therapies before settling on the ancient practice of Yoga Nidra as his specialty. \nPlease don’t wait—reserve your spot. Call us at 818.906.3022 or email us using the button below. \nEmail Us to Register
URL:https://wespark.org/event/intro-to-yoga-nidra-4/
CATEGORIES:rsvp,thisweek
ATTACH;FMTTYPE=image/png:https://wespark.org/wp-content/uploads/2024/03/2024-Indira-Yoga-12X8.png
END:VEVENT
BEGIN:VEVENT
DTSTART;TZID=America/Los_Angeles:20240426T100000
DTEND;TZID=America/Los_Angeles:20240426T110000
DTSTAMP:20260420T092304
CREATED:20240422T165447Z
LAST-MODIFIED:20240422T165448Z
UID:10015890-1714125600-1714129200@wespark.org
SUMMARY:Guided Imagery Friday
DESCRIPTION:with Valerie Luna\, C.Ht.\nVirtual Format\n\nThis in-demand guided journey continues. Join Valerie Luna on Fridays in February for Guided Imagery. This program is a fusion of Reiki and guided imagery and can help relieve stress\, reduce pain\, increase energy\, stabilize thoughts and create inner harmony. \nPlease call 818.906.3022 or email us at registration@wespark.org register for this featured program.
URL:https://wespark.org/event/guided-imagery-friday-2024-04-4/
CATEGORIES:rsvp,thisweek
ATTACH;FMTTYPE=image/png:https://wespark.org/wp-content/uploads/2023/09/2023-Reiki-GI.png
END:VEVENT
BEGIN:VEVENT
DTSTART;TZID=America/Los_Angeles:20240427T110000
DTEND;TZID=America/Los_Angeles:20240427T120000
DTSTAMP:20260420T092304
CREATED:20240401T170732Z
LAST-MODIFIED:20240422T165604Z
UID:10015898-1714215600-1714219200@wespark.org
SUMMARY:Intro to Yoga Nidra
DESCRIPTION:Four-Week Series\nwith Richard Brenner\nVirtual Format\nPlease join Richard Brenner for a four-week intro to Yoga Nidra\, a simple way to improve sleep\, declutter your mind\, and reduce anxiety and stress. Yoga Nidra\, “sleeping with awareness\,” was developed as a companion relaxation practice. \nRich Brenner began his journey into the healing arts\, studying Restorative Hypnotherapy\, Yoga\, Meditation\, Energy\, and Vibrational therapies before settling on the ancient practice of Yoga Nidra as his specialty. \nPlease don’t wait—reserve your spot. Call us at 818.906.3022 or email us using the button below. \nEmail Us to Register
URL:https://wespark.org/event/intro-to-yoga-nidra-2/
CATEGORIES:rsvp,thismonth,thisweek
ATTACH;FMTTYPE=image/png:https://wespark.org/wp-content/uploads/2024/03/2024-Indira-Yoga-12X8.png
END:VEVENT
END:VCALENDAR