BEGIN:VCALENDAR
VERSION:2.0
PRODID:-//WeSPARK - ECPv6.15.17.1//NONSGML v1.0//EN
CALSCALE:GREGORIAN
METHOD:PUBLISH
X-ORIGINAL-URL:https://wespark.org
X-WR-CALDESC:Events for WeSPARK
REFRESH-INTERVAL;VALUE=DURATION:PT1H
X-Robots-Tag:noindex
X-PUBLISHED-TTL:PT1H
BEGIN:VTIMEZONE
TZID:America/Los_Angeles
BEGIN:DAYLIGHT
TZOFFSETFROM:-0800
TZOFFSETTO:-0700
TZNAME:PDT
DTSTART:20210314T100000
END:DAYLIGHT
BEGIN:STANDARD
TZOFFSETFROM:-0700
TZOFFSETTO:-0800
TZNAME:PST
DTSTART:20211107T090000
END:STANDARD
BEGIN:DAYLIGHT
TZOFFSETFROM:-0800
TZOFFSETTO:-0700
TZNAME:PDT
DTSTART:20220313T100000
END:DAYLIGHT
BEGIN:STANDARD
TZOFFSETFROM:-0700
TZOFFSETTO:-0800
TZNAME:PST
DTSTART:20221106T090000
END:STANDARD
BEGIN:DAYLIGHT
TZOFFSETFROM:-0800
TZOFFSETTO:-0700
TZNAME:PDT
DTSTART:20230312T100000
END:DAYLIGHT
BEGIN:STANDARD
TZOFFSETFROM:-0700
TZOFFSETTO:-0800
TZNAME:PST
DTSTART:20231105T090000
END:STANDARD
END:VTIMEZONE
BEGIN:VEVENT
DTSTART;TZID=America/Los_Angeles:20220603T170000
DTEND;TZID=America/Los_Angeles:20220603T180000
DTSTAMP:20260419T081808
CREATED:20220429T180019Z
LAST-MODIFIED:20220601T013637Z
UID:10011078-1654275600-1654279200@wespark.org
SUMMARY:Eat This\, Not That - Nutritional Workshop
DESCRIPTION:with Megan Sewards\, MS\, RD Virtual Format\n\nJoin Megan Sewards\, a registered dietician\, for a nutritional workshop to provide valuable information and tips on optimizing and balancing your diet. Learn how to make healthier food choices by making simple food swaps.\nPlease reserve your spot today.\n\nREGISTER NOW\n\n\n\n\n\n\n\n\n\n 
URL:https://wespark.org/event/eat-this-not-that-nutritional-workshop/
CATEGORIES:rsvp,thisweek
ATTACH;FMTTYPE=image/png:https://wespark.org/wp-content/uploads/2022/04/Eat-This-Not-That-2022-Web.png
END:VEVENT
END:VCALENDAR