BEGIN:VCALENDAR
VERSION:2.0
PRODID:-//WeSPARK - ECPv6.15.17.1//NONSGML v1.0//EN
CALSCALE:GREGORIAN
METHOD:PUBLISH
X-ORIGINAL-URL:https://wespark.org
X-WR-CALDESC:Events for WeSPARK
REFRESH-INTERVAL;VALUE=DURATION:PT1H
X-Robots-Tag:noindex
X-PUBLISHED-TTL:PT1H
BEGIN:VTIMEZONE
TZID:America/Los_Angeles
BEGIN:DAYLIGHT
TZOFFSETFROM:-0800
TZOFFSETTO:-0700
TZNAME:PDT
DTSTART:20230312T100000
END:DAYLIGHT
BEGIN:STANDARD
TZOFFSETFROM:-0700
TZOFFSETTO:-0800
TZNAME:PST
DTSTART:20231105T090000
END:STANDARD
BEGIN:DAYLIGHT
TZOFFSETFROM:-0800
TZOFFSETTO:-0700
TZNAME:PDT
DTSTART:20240310T100000
END:DAYLIGHT
BEGIN:STANDARD
TZOFFSETFROM:-0700
TZOFFSETTO:-0800
TZNAME:PST
DTSTART:20241103T090000
END:STANDARD
BEGIN:DAYLIGHT
TZOFFSETFROM:-0800
TZOFFSETTO:-0700
TZNAME:PDT
DTSTART:20250309T100000
END:DAYLIGHT
BEGIN:STANDARD
TZOFFSETFROM:-0700
TZOFFSETTO:-0800
TZNAME:PST
DTSTART:20251102T090000
END:STANDARD
END:VTIMEZONE
BEGIN:VEVENT
DTSTART;TZID=America/Los_Angeles:20240418T160000
DTEND;TZID=America/Los_Angeles:20240418T170000
DTSTAMP:20260420T193057
CREATED:20240321T210141Z
LAST-MODIFIED:20240415T171433Z
UID:10015900-1713456000-1713459600@wespark.org
SUMMARY:Strengthen & Stretch
DESCRIPTION:with Julia Morrow\, Certified Massage Therapist\, Lymphedema Therapist & Exercise Instructor\nIn-person Format\n\n\nJoin Julia for Strengthen & Stretch\, designed for people dealing with a cancer diagnosis\, surgery or treatment. \nRediscover your mobility and improve your muscle strength and balance. \nSpace is limited so please register in advance to participate. \n\n\nEMAIL US TO REGISTER
URL:https://wespark.org/event/strengthen-stretch-2024-04/
CATEGORIES:rsvp,thisweek
ATTACH;FMTTYPE=image/png:https://wespark.org/wp-content/uploads/2022/06/Strengthen-Stretch-2022-Web.png
END:VEVENT
BEGIN:VEVENT
DTSTART;TZID=America/Los_Angeles:20240420T110000
DTEND;TZID=America/Los_Angeles:20240420T120000
DTSTAMP:20260420T193057
CREATED:20240415T173446Z
LAST-MODIFIED:20240415T173447Z
UID:10015897-1713610800-1713614400@wespark.org
SUMMARY:Intro to Yoga Nidra
DESCRIPTION:Four-Week Series\nwith Richard Brenner\nVirtual Format\nPlease join Richard Brenner for a four-week intro to Yoga Nidra\, a simple way to improve sleep\, declutter your mind\, and reduce anxiety and stress. Yoga Nidra\, “sleeping with awareness\,” was developed as a companion relaxation practice. \nRich Brenner began his journey into the healing arts\, studying Restorative Hypnotherapy\, Yoga\, Meditation\, Energy\, and Vibrational therapies before settling on the ancient practice of Yoga Nidra as his specialty. \nPlease don’t wait—reserve your spot. Call us at 818.906.3022 or email us using the button below. \nEmail Us to Register
URL:https://wespark.org/event/intro-to-yoga-nidra-4/
CATEGORIES:rsvp,thisweek
ATTACH;FMTTYPE=image/png:https://wespark.org/wp-content/uploads/2024/03/2024-Indira-Yoga-12X8.png
END:VEVENT
BEGIN:VEVENT
DTSTART;TZID=America/Los_Angeles:20240426T100000
DTEND;TZID=America/Los_Angeles:20240426T110000
DTSTAMP:20260420T193057
CREATED:20240422T165447Z
LAST-MODIFIED:20240422T165448Z
UID:10015890-1714125600-1714129200@wespark.org
SUMMARY:Guided Imagery Friday
DESCRIPTION:with Valerie Luna\, C.Ht.\nVirtual Format\n\nThis in-demand guided journey continues. Join Valerie Luna on Fridays in February for Guided Imagery. This program is a fusion of Reiki and guided imagery and can help relieve stress\, reduce pain\, increase energy\, stabilize thoughts and create inner harmony. \nPlease call 818.906.3022 or email us at registration@wespark.org register for this featured program.
URL:https://wespark.org/event/guided-imagery-friday-2024-04-4/
CATEGORIES:rsvp,thisweek
ATTACH;FMTTYPE=image/png:https://wespark.org/wp-content/uploads/2023/09/2023-Reiki-GI.png
END:VEVENT
BEGIN:VEVENT
DTSTART;TZID=America/Los_Angeles:20240427T110000
DTEND;TZID=America/Los_Angeles:20240427T120000
DTSTAMP:20260420T193057
CREATED:20240401T170732Z
LAST-MODIFIED:20240422T165604Z
UID:10015898-1714215600-1714219200@wespark.org
SUMMARY:Intro to Yoga Nidra
DESCRIPTION:Four-Week Series\nwith Richard Brenner\nVirtual Format\nPlease join Richard Brenner for a four-week intro to Yoga Nidra\, a simple way to improve sleep\, declutter your mind\, and reduce anxiety and stress. Yoga Nidra\, “sleeping with awareness\,” was developed as a companion relaxation practice. \nRich Brenner began his journey into the healing arts\, studying Restorative Hypnotherapy\, Yoga\, Meditation\, Energy\, and Vibrational therapies before settling on the ancient practice of Yoga Nidra as his specialty. \nPlease don’t wait—reserve your spot. Call us at 818.906.3022 or email us using the button below. \nEmail Us to Register
URL:https://wespark.org/event/intro-to-yoga-nidra-2/
CATEGORIES:rsvp,thismonth,thisweek
ATTACH;FMTTYPE=image/png:https://wespark.org/wp-content/uploads/2024/03/2024-Indira-Yoga-12X8.png
END:VEVENT
BEGIN:VEVENT
DTSTART;TZID=America/Los_Angeles:20240501T160000
DTEND;TZID=America/Los_Angeles:20240501T170000
DTSTAMP:20260420T193057
CREATED:20240423T194605Z
LAST-MODIFIED:20240429T223624Z
UID:10016057-1714579200-1714582800@wespark.org
SUMMARY:Partner Grief Support Group: In Person
DESCRIPTION:In-Person Format\n\n\nThis co-ed support group for spouses and partners provides a safe place for people who have lost their loved one to cancer. In the company of others who are going through similar loss\, we can find understanding and hope which eases the pain of losing a loved one.
URL:https://wespark.org/event/partner-grief-support-group-in-person-2024-05/
LOCATION:WeSPARK Cancer Support Center\, 14724 Ventura Boulevard\, Suite 101\, Sherman Oaks\, CA\, 91403
CATEGORIES:rsvp,thisweek
ATTACH;FMTTYPE=image/jpeg:https://wespark.org/wp-content/uploads/2021/02/Partner-Grief-SG-1.jpg
END:VEVENT
BEGIN:VEVENT
DTSTART;TZID=America/Los_Angeles:20240503T100000
DTEND;TZID=America/Los_Angeles:20240503T110000
DTSTAMP:20260420T193057
CREATED:20240429T205622Z
LAST-MODIFIED:20240429T205623Z
UID:10016000-1714730400-1714734000@wespark.org
SUMMARY:Guided Imagery Friday
DESCRIPTION:with Valerie Luna\, C.Ht.\nVirtual Format\n\nThis in-demand guided journey continues. Join Valerie Luna on Fridays in February for Guided Imagery. This program is a fusion of Reiki and guided imagery and can help relieve stress\, reduce pain\, increase energy\, stabilize thoughts and create inner harmony. \nPlease call 818.906.3022 or email us at registration@wespark.org register for this featured program.
URL:https://wespark.org/event/guided-imagery-friday-2024-05-2/
CATEGORIES:rsvp,thisweek
ATTACH;FMTTYPE=image/png:https://wespark.org/wp-content/uploads/2023/09/2023-Reiki-GI.png
END:VEVENT
BEGIN:VEVENT
DTSTART;TZID=America/Los_Angeles:20240506T150000
DTEND;TZID=America/Los_Angeles:20240506T170000
DTSTAMP:20260420T193057
CREATED:20240423T200140Z
LAST-MODIFIED:20240506T171040Z
UID:10016059-1715007600-1715014800@wespark.org
SUMMARY:Paint & Play
DESCRIPTION:with Edgardo Gazcón\nIn-person Format\n\nPlease join Edgardo to let your creativity flow while having fun and connecting to our community. No prior experience is required.  Creative activities\, such as painting\, can help with stress and anxiety and improve an individual’s mood. \nThis workshop will be in English and español with with May’s theme of Exploring Expressionism \nPlease reserve your spot today for this fun and in-person workshop by calling us at 818.906.3022 or email using the button below. \n\n\nEMAIL US TO SIGN UP
URL:https://wespark.org/event/paint-play-2024-05/
CATEGORIES:rsvp,thisweek
ATTACH;FMTTYPE=image/png:https://wespark.org/wp-content/uploads/2023/05/Paint-Play.png
END:VEVENT
BEGIN:VEVENT
DTSTART;TZID=America/Los_Angeles:20240509T150000
DTEND;TZID=America/Los_Angeles:20240509T160000
DTSTAMP:20260420T193057
CREATED:20240423T195425Z
LAST-MODIFIED:20240506T171122Z
UID:10016058-1715266800-1715270400@wespark.org
SUMMARY:Jewelry Making Workshop
DESCRIPTION:In-person Format\n\nJoin us for our Jewelry Making Workshop to create a unique jewelry piece to keep or gift to a loved one. Our theme for May is naturally Mother’s Day. All materials are provided\, but you may bring a personal item to incorporate into your design. Participants do not need prior experience to attend this fun workshop.\nThere’s limited space at this in-person only workshop\, so please reserve your spot today.\n\n\nEMAIL TO SIGN UP
URL:https://wespark.org/event/jewelry-making-workshop-2024-05/
CATEGORIES:rsvp,thisweek
ATTACH;FMTTYPE=image/png:https://wespark.org/wp-content/uploads/2021/03/Jewelry-Making-Web.png
END:VEVENT
BEGIN:VEVENT
DTSTART;TZID=America/Los_Angeles:20240510T100000
DTEND;TZID=America/Los_Angeles:20240510T110000
DTSTAMP:20260420T193057
CREATED:20240506T171332Z
LAST-MODIFIED:20240506T171333Z
UID:10016001-1715335200-1715338800@wespark.org
SUMMARY:Guided Imagery Friday
DESCRIPTION:with Valerie Luna\, C.Ht.\nVirtual Format\n\nThis in-demand guided journey continues. Join Valerie Luna on Fridays in February for Guided Imagery. This program is a fusion of Reiki and guided imagery and can help relieve stress\, reduce pain\, increase energy\, stabilize thoughts and create inner harmony. \nPlease call 818.906.3022 or email us at registration@wespark.org register for this featured program.
URL:https://wespark.org/event/guided-imagery-friday-2024-05-3/
CATEGORIES:rsvp,thisweek
ATTACH;FMTTYPE=image/png:https://wespark.org/wp-content/uploads/2023/09/2023-Reiki-GI.png
END:VEVENT
BEGIN:VEVENT
DTSTART;TZID=America/Los_Angeles:20240516T160000
DTEND;TZID=America/Los_Angeles:20240516T170000
DTSTAMP:20260420T193057
CREATED:20240423T222343Z
LAST-MODIFIED:20240513T181529Z
UID:10016061-1715875200-1715878800@wespark.org
SUMMARY:Strengthen & Stretch
DESCRIPTION:with Julia Morrow\, Certified Massage Therapist\, Lymphedema Therapist & Exercise Instructor\nIn-person Format\n\n\nJoin Julia for Strengthen & Stretch\, designed for people dealing with a cancer diagnosis\, surgery or treatment. \nRediscover your mobility and improve your muscle strength and balance. \nSpace is limited so please register in advance to participate. \n\n\n\nEMAIL US TO SIGN UP
URL:https://wespark.org/event/strengthen-stretch-2024-05/
CATEGORIES:rsvp,thisweek
ATTACH;FMTTYPE=image/png:https://wespark.org/wp-content/uploads/2022/06/Strengthen-Stretch-2022-Web.png
END:VEVENT
BEGIN:VEVENT
DTSTART;TZID=America/Los_Angeles:20240517T113000
DTEND;TZID=America/Los_Angeles:20240517T113000
DTSTAMP:20260420T193057
CREATED:20240423T223321Z
LAST-MODIFIED:20240513T182918Z
UID:10016062-1715945400-1715945400@wespark.org
SUMMARY:Beyond Cancer: Self-identity
DESCRIPTION:In-person Format\n\n\nWith Leila Costa\, LMFT\nJoin Leila for an in-person meet-up this month. This session is open to cancer patients\, survivors\, and caregivers and will delve into self-perception\, resilience\, and personal growth. \nParticipants will also have a chance to connect with peers\, share their experiences and enjoy a snack. \n\n\nPlease reserve your spot for Beyond Cancer by calling 818.906.3022 or emailing us using the button below. \n\n\n\nEMAIL US TO SIGN UP
URL:https://wespark.org/event/beyond-cancer-self-identity/
CATEGORIES:rsvp,thisweek
ATTACH;FMTTYPE=image/png:https://wespark.org/wp-content/uploads/2023/01/2023-Beyond-Cancer-Series-Web.png
END:VEVENT
BEGIN:VEVENT
DTSTART;TZID=America/Los_Angeles:20240520T160000
DTEND;TZID=America/Los_Angeles:20240520T170000
DTSTAMP:20260420T193057
CREATED:20240423T221133Z
LAST-MODIFIED:20240520T180222Z
UID:10016060-1716220800-1716224400@wespark.org
SUMMARY:Acupressure Workshop
DESCRIPTION:with Donnielle James\, L.Ac.\nVirtual Format\n\nJoin Donnielle in May to learn practical techniques\, acupressure points and how to integrate them into a daily self-care routine. Acupuncture can help with stress\, pain\, and peripheral neuropathy. \nDonnielle James has over 20 years of experience in clinical and fitness spaces. \nPlease reserve your spot today for this informative workshop by calling us at 818.906.3022 or email using the button below. \n\n\nEMAIL US TO SIGN UP
URL:https://wespark.org/event/acupressure-workshop/
CATEGORIES:rsvp,thisweek
ATTACH;FMTTYPE=image/png:https://wespark.org/wp-content/uploads/2024/04/Acupressure.png
END:VEVENT
BEGIN:VEVENT
DTSTART;TZID=America/Los_Angeles:20240521T113000
DTEND;TZID=America/Los_Angeles:20240521T123000
DTSTAMP:20260420T193057
CREATED:20240423T225255Z
LAST-MODIFIED:20240520T180044Z
UID:10016063-1716291000-1716294600@wespark.org
SUMMARY:Bye Anxiety with Guided Imagery
DESCRIPTION:In-person Format\n\n\nCheryl O’Neil\, C.Ht.\nJoin Cheryl for an in-person session\, during which she will guide you through imagery exercises and show you how to add to a daily practice. Imagery can help manage stress and anxiety and strengthen your well-being. \n\n\nPlease reserve your spot by calling 818.906.3022 or emailing us using the button below. \n\n\n\nEMAIL US TO SIGN UP
URL:https://wespark.org/event/bye-anxiety-with-guided-imagery/
CATEGORIES:rsvp,thisweek
ATTACH;FMTTYPE=image/png:https://wespark.org/wp-content/uploads/2024/04/Guided-imagery-beige-and-green-12X8.png
END:VEVENT
BEGIN:VEVENT
DTSTART;TZID=America/Los_Angeles:20240524T100000
DTEND;TZID=America/Los_Angeles:20240524T110000
DTSTAMP:20260420T193057
CREATED:20240520T180158Z
LAST-MODIFIED:20240520T180158Z
UID:10016003-1716544800-1716548400@wespark.org
SUMMARY:Guided Imagery Friday
DESCRIPTION:with Valerie Luna\, C.Ht.\nVirtual Format\n\nThis in-demand guided journey continues. Join Valerie Luna on Fridays in February for Guided Imagery. This program is a fusion of Reiki and guided imagery and can help relieve stress\, reduce pain\, increase energy\, stabilize thoughts and create inner harmony. \nPlease call 818.906.3022 or email us at registration@wespark.org register for this featured program.
URL:https://wespark.org/event/guided-imagery-friday-2024-05-5/
CATEGORIES:rsvp,thisweek
ATTACH;FMTTYPE=image/png:https://wespark.org/wp-content/uploads/2023/09/2023-Reiki-GI.png
END:VEVENT
BEGIN:VEVENT
DTSTART;TZID=America/Los_Angeles:20240531T100000
DTEND;TZID=America/Los_Angeles:20240531T110000
DTSTAMP:20260420T193057
CREATED:20240513T183243Z
LAST-MODIFIED:20240528T201804Z
UID:10016004-1717149600-1717153200@wespark.org
SUMMARY:Guided Imagery Friday
DESCRIPTION:with Valerie Luna\, C.Ht.\nVirtual Format\n\nThis in-demand guided journey continues. Join Valerie Luna on Fridays for Guided Imagery. This program can help relieve stress\, reduce pain\, increase energy\, stabilize thoughts and create inner harmony. \nPlease call 818.906.3022 or email us at registration@wespark.org register for this featured program.
URL:https://wespark.org/event/guided-imagery-friday-2024-05-4/
CATEGORIES:rsvp,thismonth,thisweek
ATTACH;FMTTYPE=image/png:https://wespark.org/wp-content/uploads/2023/09/2023-Reiki-GI.png
END:VEVENT
BEGIN:VEVENT
DTSTART;TZID=America/Los_Angeles:20240605T160000
DTEND;TZID=America/Los_Angeles:20240605T170000
DTSTAMP:20260420T193057
CREATED:20240530T193631Z
LAST-MODIFIED:20240603T165522Z
UID:10016130-1717603200-1717606800@wespark.org
SUMMARY:Partner Grief Support Group: In Person
DESCRIPTION:In-Person Format\n\n\nThis co-ed support group for spouses and partners provides a safe place for people who have lost their loved one to cancer. In the company of others who are going through similar loss\, we can find understanding and hope which eases the pain of losing a loved one.
URL:https://wespark.org/event/partner-grief-support-group-in-person-2024-06/
LOCATION:WeSPARK Cancer Support Center\, 14724 Ventura Boulevard\, Suite 101\, Sherman Oaks\, CA\, 91403
CATEGORIES:rsvp,thisweek
ATTACH;FMTTYPE=image/jpeg:https://wespark.org/wp-content/uploads/2021/02/Partner-Grief-SG-1.jpg
END:VEVENT
BEGIN:VEVENT
DTSTART;TZID=America/Los_Angeles:20240607T100000
DTEND;TZID=America/Los_Angeles:20240607T110000
DTSTAMP:20260420T193057
CREATED:20240603T165635Z
LAST-MODIFIED:20240603T165636Z
UID:10016064-1717754400-1717758000@wespark.org
SUMMARY:Guided Imagery Friday
DESCRIPTION:with Valerie Luna\, C.Ht.\nVirtual Format\n\nThis in-demand guided journey continues. Join Valerie Luna on Fridays for Guided Imagery. This program can help relieve stress\, reduce pain\, increase energy\, stabilize thoughts and create inner harmony. \nPlease call 818.906.3022 or email us at registration@wespark.org register for this featured program.
URL:https://wespark.org/event/guided-imagery-friday-2024-06-2/
CATEGORIES:rsvp,thisweek
ATTACH;FMTTYPE=image/png:https://wespark.org/wp-content/uploads/2023/09/2023-Reiki-GI.png
END:VEVENT
BEGIN:VEVENT
DTSTART;TZID=America/Los_Angeles:20240612T140000
DTEND;TZID=America/Los_Angeles:20240612T150000
DTSTAMP:20260420T193057
CREATED:20240516T190023Z
LAST-MODIFIED:20240610T200510Z
UID:10016125-1718200800-1718204400@wespark.org
SUMMARY:Belly Dance
DESCRIPTION:Magic & Movement\nwith Maryam\nIn-person Format\nJoin us for an interactive belly dance workshop. Maryam will guide participants through a series of beginner-friendly dance movements\, emphasizing posture and fluidity of movement. \nPlease don’t wait—reserve your spot. Call us at 818.906.3022 or email us using the button below. \nEmail Us to Register
URL:https://wespark.org/event/belly-dance-2024-06/
CATEGORIES:rsvp,thisweek
ATTACH;FMTTYPE=image/png:https://wespark.org/wp-content/uploads/2024/03/2024-Belly-Dance-12X8.png
END:VEVENT
BEGIN:VEVENT
DTSTART;TZID=America/Los_Angeles:20240614T100000
DTEND;TZID=America/Los_Angeles:20240614T110000
DTSTAMP:20260420T193057
CREATED:20240610T200610Z
LAST-MODIFIED:20240610T200610Z
UID:10016065-1718359200-1718362800@wespark.org
SUMMARY:Guided Imagery Friday
DESCRIPTION:with Valerie Luna\, C.Ht.\nVirtual Format\n\nThis in-demand guided journey continues. Join Valerie Luna on Fridays for Guided Imagery. This program can help relieve stress\, reduce pain\, increase energy\, stabilize thoughts and create inner harmony. \nPlease call 818.906.3022 or email us at registration@wespark.org register for this featured program.
URL:https://wespark.org/event/guided-imagery-friday-2024-06-3/
CATEGORIES:rsvp,thisweek
ATTACH;FMTTYPE=image/png:https://wespark.org/wp-content/uploads/2023/09/2023-Reiki-GI.png
END:VEVENT
BEGIN:VEVENT
DTSTART;TZID=America/Los_Angeles:20240618T130000
DTEND;TZID=America/Los_Angeles:20240618T140000
DTSTAMP:20260420T193057
CREATED:20240516T190822Z
LAST-MODIFIED:20240617T182042Z
UID:10016126-1718715600-1718719200@wespark.org
SUMMARY:Bye Anxiety with Guided Imagery
DESCRIPTION:In-person Format\n\n\nCheryl O’Neil\, C.Ht.\nJoin Cheryl for an in-person session\, during which she will guide you through imagery exercises and show you how to add to a daily practice. Imagery can help manage stress and anxiety and boost wellness. \n\n\nPlease reserve your spot by calling 818.906.3022 or emailing us using the button below. \n\n\n\nEMAIL US TO SIGN UP
URL:https://wespark.org/event/bye-anxiety-with-guided-imagery-2024-06/
CATEGORIES:rsvp,thisweek
ATTACH;FMTTYPE=image/png:https://wespark.org/wp-content/uploads/2024/04/Guided-imagery-beige-and-green-12X8.png
END:VEVENT
BEGIN:VEVENT
DTSTART;TZID=America/Los_Angeles:20240620T120000
DTEND;TZID=America/Los_Angeles:20240620T130000
DTSTAMP:20260420T193057
CREATED:20240321T203526Z
LAST-MODIFIED:20240618T205831Z
UID:10015894-1718884800-1718888400@wespark.org
SUMMARY:What's In Your Genes?
DESCRIPTION:with Benjamin Leach from City of Hope and Daniella Menashe from Cedars Sinai\n\nVirtual Format \n\nPlease join us for an informative conversation about genes and cancer. Learn the latest in cancer screening\, what you need to know about genetic testing options\, hereditary cancer risk\, and how it impacts your family.  \nThis program is presented in partnership with Sharsheret.  \nEveryone is welcome to this free virtual community event\, but you must RSVP. Please don’t wait—reserve your spot. Call us at 818.906.3022 or email us using the button below. \nAbout Sharsheret \nSharsheret\, a national non-profit organization\, improves the lives of Jewish women and families living with or at increased genetic risk for breast or ovarian cancer. While their expertise is in young women and Jewish families as related to breast cancer and ovarian cancer\, Sharsheret programs serve all women and men. \n\n\n\nRegister Now
URL:https://wespark.org/event/whats-in-your-genes/
CATEGORIES:rsvp,thisweek
ATTACH;FMTTYPE=image/png:https://wespark.org/wp-content/uploads/2024/03/2024-What_s-in-Your-Genes-LY.png
END:VEVENT
BEGIN:VEVENT
DTSTART;TZID=America/Los_Angeles:20240620T160000
DTEND;TZID=America/Los_Angeles:20240620T170000
DTSTAMP:20260420T193057
CREATED:20240516T212509Z
LAST-MODIFIED:20240617T182542Z
UID:10016127-1718899200-1718902800@wespark.org
SUMMARY:Strengthen & Stretch
DESCRIPTION:with Julia Morrow\, Certified Massage Therapist\, Lymphedema Therapist & Exercise Instructor\nIn-person Format\n\n\nJoin Julia for Strengthen & Stretch\, designed for people dealing with a cancer diagnosis\, surgery or treatment. \nRediscover your mobility and improve your muscle strength and balance. \nSpace is limited so please register in advance to participate. \n\n\n\nEMAIL US TO SIGN UP
URL:https://wespark.org/event/strengthen-stretch-2024-06/
CATEGORIES:rsvp,thisweek
ATTACH;FMTTYPE=image/png:https://wespark.org/wp-content/uploads/2022/06/Strengthen-Stretch-2022-Web.png
END:VEVENT
BEGIN:VEVENT
DTSTART;TZID=America/Los_Angeles:20240621T100000
DTEND;TZID=America/Los_Angeles:20240621T110000
DTSTAMP:20260420T193057
CREATED:20240617T182647Z
LAST-MODIFIED:20240617T182647Z
UID:10016066-1718964000-1718967600@wespark.org
SUMMARY:Guided Imagery Friday
DESCRIPTION:with Valerie Luna\, C.Ht.\nVirtual Format\n\nThis in-demand guided journey continues. Join Valerie Luna on Fridays for Guided Imagery. This program can help relieve stress\, reduce pain\, increase energy\, stabilize thoughts and create inner harmony. \nPlease call 818.906.3022 or email us at registration@wespark.org register for this featured program.
URL:https://wespark.org/event/guided-imagery-friday-2024-06-4/
CATEGORIES:rsvp,thisweek
ATTACH;FMTTYPE=image/png:https://wespark.org/wp-content/uploads/2023/09/2023-Reiki-GI.png
END:VEVENT
BEGIN:VEVENT
DTSTART;TZID=America/Los_Angeles:20240625T180000
DTEND;TZID=America/Los_Angeles:20240625T190000
DTSTAMP:20260420T193057
CREATED:20240520T223056Z
LAST-MODIFIED:20240624T171419Z
UID:10016129-1719338400-1719342000@wespark.org
SUMMARY:Expressive Writing = Emotional Health Workshop
DESCRIPTION:With David Richman\n\nVirtual Format\nJoin author David Richman for an expressive writing workshop. You’ll learn about the power that writing has on emotional health. Participants can begin or continue their writing journey. Everyone is welcome.\n\nExplore your creative side and express yourself in a judgment-free\, connective\, empowering\, and supportive community.\n\nAll are welcome but you must register. Please call 818.906.3022 or email us using the button below to register early to reserve your spot for this virtual-only program.\n\n\nEmail Us
URL:https://wespark.org/event/expressive-writing-emotional-health-workshop-2024-06/
CATEGORIES:rsvp,thismonth,thisweek
ATTACH;FMTTYPE=image/png:https://wespark.org/wp-content/uploads/2022/04/Expressive-Writing.png
END:VEVENT
BEGIN:VEVENT
DTSTART;TZID=America/Los_Angeles:20240628T100000
DTEND;TZID=America/Los_Angeles:20240628T110000
DTSTAMP:20260420T193057
CREATED:20240624T171500Z
LAST-MODIFIED:20240624T171501Z
UID:10016067-1719568800-1719572400@wespark.org
SUMMARY:Guided Imagery Friday
DESCRIPTION:with Valerie Luna\, C.Ht.\nVirtual Format\n\nThis in-demand guided journey continues. Join Valerie Luna on Fridays for Guided Imagery. This program can help relieve stress\, reduce pain\, increase energy\, stabilize thoughts and create inner harmony. \nPlease call 818.906.3022 or email us at registration@wespark.org register for this featured program.
URL:https://wespark.org/event/guided-imagery-friday-2024-06-5/
CATEGORIES:rsvp,thisweek
ATTACH;FMTTYPE=image/png:https://wespark.org/wp-content/uploads/2023/09/2023-Reiki-GI.png
END:VEVENT
BEGIN:VEVENT
DTSTART;TZID=America/Los_Angeles:20240703T160000
DTEND;TZID=America/Los_Angeles:20240703T170000
DTSTAMP:20260420T193057
CREATED:20240620T190947Z
LAST-MODIFIED:20240701T165424Z
UID:10016279-1720022400-1720026000@wespark.org
SUMMARY:Partner Grief Support Group: In Person
DESCRIPTION:In-Person Format\n\n\nThis co-ed support group for spouses and partners provides a safe place for people who have lost their loved one to cancer. In the company of others who are going through similar loss\, we can find understanding and hope which eases the pain of losing a loved one.
URL:https://wespark.org/event/partner-grief-support-group-in-person-2024-07/
LOCATION:WeSPARK Cancer Support Center\, 14724 Ventura Boulevard\, Suite 101\, Sherman Oaks\, CA\, 91403
CATEGORIES:rsvp,thisweek
ATTACH;FMTTYPE=image/jpeg:https://wespark.org/wp-content/uploads/2021/02/Partner-Grief-SG-1.jpg
END:VEVENT
BEGIN:VEVENT
DTSTART;TZID=America/Los_Angeles:20240709T110000
DTEND;TZID=America/Los_Angeles:20240709T120000
DTSTAMP:20260420T193057
CREATED:20240620T194348Z
LAST-MODIFIED:20240708T171844Z
UID:10016290-1720522800-1720526400@wespark.org
SUMMARY:Country Line Dance
DESCRIPTION:with Kathy Levyn\nIn-person Format\nPlease join Kathy for a dose of line dancing and country music. No experience is necessary. Wear comfortable clothes and shoes and immerse yourself in country music. \nPlease don’t wait—reserve your spot. Call us at 818.906.3022 or email us using the button below. \nEmail Us to Register
URL:https://wespark.org/event/country-line-dance/
CATEGORIES:rsvp,thisweek
ATTACH;FMTTYPE=image/png:https://wespark.org/wp-content/uploads/2024/06/Country-Line-Dance-12X8.png
END:VEVENT
BEGIN:VEVENT
DTSTART;TZID=America/Los_Angeles:20240713T110000
DTEND;TZID=America/Los_Angeles:20240713T120000
DTSTAMP:20260420T193057
CREATED:20240708T171932Z
LAST-MODIFIED:20240708T171932Z
UID:10016282-1720868400-1720872000@wespark.org
SUMMARY:Intro to Yoga Nidra
DESCRIPTION:Six-Week Series\nwith Richard Brenner\nVirtual Format\nPlease join Richard Brenner for a four-week intro to Yoga Nidra\, a simple way to improve sleep\, declutter your mind\, and reduce anxiety and stress. Yoga Nidra\, “sleeping with awareness\,” was developed as a companion relaxation practice. \nRich Brenner began his journey into the healing arts\, studying Restorative Hypnotherapy\, Yoga\, Meditation\, Energy\, and Vibrational therapies before settling on the ancient practice of Yoga Nidra as his specialty. \nPlease don’t wait—reserve your spot. Call us at 818.906.3022 or email us using the button below. \nEmail Us to Register
URL:https://wespark.org/event/intro-to-yoga-nidra-2024-07-2/
CATEGORIES:rsvp,thisweek
ATTACH;FMTTYPE=image/png:https://wespark.org/wp-content/uploads/2024/03/2024-Indira-Yoga-12X8.png
END:VEVENT
BEGIN:VEVENT
DTSTART;TZID=America/Los_Angeles:20240715T150000
DTEND;TZID=America/Los_Angeles:20240715T170000
DTSTAMP:20260420T193057
CREATED:20240620T192331Z
LAST-MODIFIED:20240715T164151Z
UID:10016287-1721055600-1721062800@wespark.org
SUMMARY:Paint & Play
DESCRIPTION:with Edgardo Gazcón\nIn-person Format\n\nPlease join Edgardo to let your creativity flow while having fun and connecting to our community. No prior experience is required.  Creative activities\, such as painting\, can help with stress and anxiety and improve an individual’s mood. \nThis workshop will be in English and español. \nPlease reserve your spot today for this fun and in-person workshop by calling us at 818.906.3022 or email using the button below. \n\n\nEMAIL US TO SIGN UP
URL:https://wespark.org/event/paint-play-2024-07/
CATEGORIES:rsvp,thisweek
ATTACH;FMTTYPE=image/png:https://wespark.org/wp-content/uploads/2023/05/Paint-Play.png
END:VEVENT
BEGIN:VEVENT
DTSTART;TZID=America/Los_Angeles:20240718T160000
DTEND;TZID=America/Los_Angeles:20240718T170000
DTSTAMP:20260420T193057
CREATED:20240620T192607Z
LAST-MODIFIED:20240715T164220Z
UID:10016288-1721318400-1721322000@wespark.org
SUMMARY:Strengthen & Stretch
DESCRIPTION:with Julia Morrow\, Certified Massage Therapist\, Lymphedema Therapist & Exercise Instructor\nIn-person Format\n\n\nJoin Julia for Strengthen & Stretch\, designed for people dealing with a cancer diagnosis\, surgery or treatment. \nRediscover your mobility and improve your muscle strength and balance. \nSpace is limited so please register in advance to participate. \n\n\n\nEMAIL US TO SIGN UP
URL:https://wespark.org/event/strengthen-stretch-2024-07/
CATEGORIES:rsvp,thisweek
ATTACH;FMTTYPE=image/png:https://wespark.org/wp-content/uploads/2022/06/Strengthen-Stretch-2022-Web.png
END:VEVENT
END:VCALENDAR