BEGIN:VCALENDAR
VERSION:2.0
PRODID:-//WeSPARK - ECPv6.15.17.1//NONSGML v1.0//EN
CALSCALE:GREGORIAN
METHOD:PUBLISH
X-ORIGINAL-URL:https://wespark.org
X-WR-CALDESC:Events for WeSPARK
REFRESH-INTERVAL;VALUE=DURATION:PT1H
X-Robots-Tag:noindex
X-PUBLISHED-TTL:PT1H
BEGIN:VTIMEZONE
TZID:America/Los_Angeles
BEGIN:DAYLIGHT
TZOFFSETFROM:-0800
TZOFFSETTO:-0700
TZNAME:PDT
DTSTART:20230312T100000
END:DAYLIGHT
BEGIN:STANDARD
TZOFFSETFROM:-0700
TZOFFSETTO:-0800
TZNAME:PST
DTSTART:20231105T090000
END:STANDARD
BEGIN:DAYLIGHT
TZOFFSETFROM:-0800
TZOFFSETTO:-0700
TZNAME:PDT
DTSTART:20240310T100000
END:DAYLIGHT
BEGIN:STANDARD
TZOFFSETFROM:-0700
TZOFFSETTO:-0800
TZNAME:PST
DTSTART:20241103T090000
END:STANDARD
BEGIN:DAYLIGHT
TZOFFSETFROM:-0800
TZOFFSETTO:-0700
TZNAME:PDT
DTSTART:20250309T100000
END:DAYLIGHT
BEGIN:STANDARD
TZOFFSETFROM:-0700
TZOFFSETTO:-0800
TZNAME:PST
DTSTART:20251102T090000
END:STANDARD
END:VTIMEZONE
BEGIN:VEVENT
DTSTART;TZID=America/Los_Angeles:20240502T101500
DTEND;TZID=America/Los_Angeles:20240502T111500
DTSTAMP:20260419T070951
CREATED:20231214T205140Z
LAST-MODIFIED:20231214T205140Z
UID:10014366-1714644900-1714648500@wespark.org
SUMMARY:Ongoing Treatment Support Group
DESCRIPTION:Virtual Format\n\nThis nurturing group focuses on issues relevant to those with a metastatic\, advanced diagnosis of cancer such as how to be a better advocate as well as enhance the quality of one’s life. Other issues discussed are body image\, familial concerns\, symptom management\, pain control\, anticipatory grief\, and anxiety. \n\n\n\n\n\n\n\n\n\n 
URL:https://wespark.org/event/ongoing-treatment-support-group-2/2024-05-02/
LOCATION:CA
ATTACH;FMTTYPE=image/jpeg:https://wespark.org/wp-content/uploads/2021/02/Ongoing-Treatment-and-Metastatic-SG-1.jpg
END:VEVENT
BEGIN:VEVENT
DTSTART;TZID=America/Los_Angeles:20240502T140000
DTEND;TZID=America/Los_Angeles:20240502T150000
DTSTAMP:20260419T070951
CREATED:20240103T000009Z
LAST-MODIFIED:20240103T000010Z
UID:10015182-1714658400-1714662000@wespark.org
SUMMARY:Men's Support Group
DESCRIPTION:Virtual Format\n\nLed by a physician and therapist\, this group is for men in all stages of a cancer diagnosis\, treatment\, or after treatment. Learn strategies for coping with diagnosis\, side effects from treatment\, fear and anxiety and familial relationships.\n\n\n\n\n\n\n\n\n\n\n 
URL:https://wespark.org/event/mens-support-group-2024-2/2024-05-02/
LOCATION:CA
ATTACH;FMTTYPE=image/jpeg:https://wespark.org/wp-content/uploads/2021/02/Mens-SG-1.jpg
END:VEVENT
BEGIN:VEVENT
DTSTART;TZID=America/Los_Angeles:20240502T170000
DTEND;TZID=America/Los_Angeles:20240502T180000
DTSTAMP:20260419T070951
CREATED:20240103T000538Z
LAST-MODIFIED:20240103T000538Z
UID:10015286-1714669200-1714672800@wespark.org
SUMMARY:Doing Cancer Solo Support Group
DESCRIPTION:Virtual Format\n\nThis is a group for anyone who feels like they are facing cancer alone- either without the support of a partner\, or a family. We will share tools and strategies that help to differentiate between feelings and circumstances\, while helping to deepen connections to ourselves and creating community.\n\n\n\n\n\n\n\n\n\n\n 
URL:https://wespark.org/event/doing-cancer-solo-support-group/2024-05-02/
LOCATION:CA
ATTACH;FMTTYPE=image/jpeg:https://wespark.org/wp-content/uploads/2021/02/Doing-Cancer-Solo-SG-2021-12X6-2.jpg
END:VEVENT
BEGIN:VEVENT
DTSTART;TZID=America/Los_Angeles:20240502T180000
DTEND;TZID=America/Los_Angeles:20240502T190000
DTSTAMP:20260419T070951
CREATED:20240103T003309Z
LAST-MODIFIED:20240103T003309Z
UID:10015344-1714672800-1714676400@wespark.org
SUMMARY:Breast Cancer Support Group
DESCRIPTION:Virtual Format\n\nThis group is for women with breast cancer in all stages\, from diagnosis to survivorship. Participants will cultivate community\, share resources\, and find supportive conversations.\n\n\n\n\n\n\n\n\n\n\n 
URL:https://wespark.org/event/breast-cancer-support-group-2024/2024-05-02/
LOCATION:CA
ATTACH;FMTTYPE=image/jpeg:https://wespark.org/wp-content/uploads/2021/02/Breast-Cancer-SG-2021-12X6-2.jpg
END:VEVENT
BEGIN:VEVENT
DTSTART;TZID=America/Los_Angeles:20240503T100000
DTEND;TZID=America/Los_Angeles:20240503T110000
DTSTAMP:20260419T070951
CREATED:20240429T205622Z
LAST-MODIFIED:20240429T205623Z
UID:10016000-1714730400-1714734000@wespark.org
SUMMARY:Guided Imagery Friday
DESCRIPTION:with Valerie Luna\, C.Ht.\nVirtual Format\n\nThis in-demand guided journey continues. Join Valerie Luna on Fridays in February for Guided Imagery. This program is a fusion of Reiki and guided imagery and can help relieve stress\, reduce pain\, increase energy\, stabilize thoughts and create inner harmony. \nPlease call 818.906.3022 or email us at registration@wespark.org register for this featured program.
URL:https://wespark.org/event/guided-imagery-friday-2024-05-2/
LOCATION:CA
CATEGORIES:rsvp,thisweek
ATTACH;FMTTYPE=image/png:https://wespark.org/wp-content/uploads/2023/09/2023-Reiki-GI.png
END:VEVENT
BEGIN:VEVENT
DTSTART;TZID=America/Los_Angeles:20240504T110000
DTEND;TZID=America/Los_Angeles:20240504T120000
DTSTAMP:20260419T070951
CREATED:20240321T204457Z
LAST-MODIFIED:20240423T222731Z
UID:10015899-1714820400-1714824000@wespark.org
SUMMARY:Intro to Yoga Nidra
DESCRIPTION:Four-Week Series\nwith Richard Brenner\nVirtual Format\nPlease join Richard Brenner for a four-week intro to Yoga Nidra\, a simple way to improve sleep\, declutter your mind\, and reduce anxiety and stress. Yoga Nidra\, “sleeping with awareness\,” was developed as a companion relaxation practice. \nRich Brenner began his journey into the healing arts\, studying Restorative Hypnotherapy\, Yoga\, Meditation\, Energy\, and Vibrational therapies before settling on the ancient practice of Yoga Nidra as his specialty. \nPlease don’t wait—reserve your spot. Call us at 818.906.3022 or email us using the button below. \nEmail Us to Register
URL:https://wespark.org/event/intro-to-yoga-nidra/
LOCATION:CA
CATEGORIES:rsvp
ATTACH;FMTTYPE=image/png:https://wespark.org/wp-content/uploads/2024/03/2024-Indira-Yoga-12X8.png
END:VEVENT
BEGIN:VEVENT
DTSTART;TZID=America/Los_Angeles:20240504T141500
DTEND;TZID=America/Los_Angeles:20240504T151500
DTSTAMP:20260419T070951
CREATED:20240103T214618Z
LAST-MODIFIED:20240103T214618Z
UID:10015447-1714832100-1714835700@wespark.org
SUMMARY:Yoga with Yovanni
DESCRIPTION:Virtual Format\n\nJoin Yovanni for online yoga from the comfort of your home on Saturdays. This popular exercise helps relieve anxiety and promotes better sleep. Space is limited\, so please register to reserve your spot and receive the link for the class. \nRegister Now\n\n\n\n\n\n\n\n\n\n\n 
URL:https://wespark.org/event/yoga-with-yovanni-2024/2024-05-04/
LOCATION:CA
ATTACH;FMTTYPE=image/jpeg:https://wespark.org/wp-content/uploads/2020/11/Yoga-with-Yovanni-2021-12X6-2.jpg
END:VEVENT
BEGIN:VEVENT
DTSTART;TZID=America/Los_Angeles:20240506T150000
DTEND;TZID=America/Los_Angeles:20240506T170000
DTSTAMP:20260419T070951
CREATED:20240423T200140Z
LAST-MODIFIED:20240506T171040Z
UID:10016059-1715007600-1715014800@wespark.org
SUMMARY:Paint & Play
DESCRIPTION:with Edgardo Gazcón\nIn-person Format\n\nPlease join Edgardo to let your creativity flow while having fun and connecting to our community. No prior experience is required.  Creative activities\, such as painting\, can help with stress and anxiety and improve an individual’s mood. \nThis workshop will be in English and español with with May’s theme of Exploring Expressionism \nPlease reserve your spot today for this fun and in-person workshop by calling us at 818.906.3022 or email using the button below. \n\n\nEMAIL US TO SIGN UP
URL:https://wespark.org/event/paint-play-2024-05/
LOCATION:CA
CATEGORIES:rsvp,thisweek
ATTACH;FMTTYPE=image/png:https://wespark.org/wp-content/uploads/2023/05/Paint-Play.png
END:VEVENT
BEGIN:VEVENT
DTSTART;TZID=America/Los_Angeles:20240507T100000
DTEND;TZID=America/Los_Angeles:20240507T110000
DTSTAMP:20260419T070951
CREATED:20240305T174445Z
LAST-MODIFIED:20240701T184531Z
UID:10015842-1715076000-1715079600@wespark.org
SUMMARY:Yoga with Victoria
DESCRIPTION:Virtual Format\n\n\nJoin Victoria from Perseverance Yoga for a morning opportunity to stretch and build a healthy routine. Yoga helps reduce stress and improve quality of life. With Victoria Gluchoski. Please register to reserve your spot at this yoga class via Zoom.
URL:https://wespark.org/event/yoga-with-victoria-2024/2024-05-07/
LOCATION:CA
ATTACH;FMTTYPE=image/jpeg:https://wespark.org/wp-content/uploads/2020/11/Yoga-with-Victoria-12X61.jpg
END:VEVENT
BEGIN:VEVENT
DTSTART;TZID=America/Los_Angeles:20240507T150000
DTEND;TZID=America/Los_Angeles:20240507T160000
DTSTAMP:20260419T070951
CREATED:20240402T225526Z
LAST-MODIFIED:20240402T225526Z
UID:10015961-1715094000-1715097600@wespark.org
SUMMARY:QI Gong & Meditation for Cancer Support
DESCRIPTION:Virtual Format\n\n\nEd Sullivan leads this class that combines exercises and powerful meditations to help restore and maintain health and wellness. This weekly practice helps reduce fatigue\, brain fog\, anxiety\, and numbness or tingling in your hands and feet. This practice can be done from a standing or seated position. \nJoin Ed on Tuesday at 1 PM. \n\n\n\n\n\n\n\n\n\n 
URL:https://wespark.org/event/qi-gong-meditation-for-cancer-support-3-2-2/2024-05-07/
LOCATION:CA
ATTACH;FMTTYPE=image/jpeg:https://wespark.org/wp-content/uploads/2020/11/Qi-Gong-12x6-2.jpg
END:VEVENT
BEGIN:VEVENT
DTSTART;TZID=America/Los_Angeles:20240507T190000
DTEND;TZID=America/Los_Angeles:20240507T200000
DTSTAMP:20260419T070951
CREATED:20231215T195327Z
LAST-MODIFIED:20240722T225824Z
UID:10014601-1715108400-1715112000@wespark.org
SUMMARY:Caregivers Support Group
DESCRIPTION:  \nVirtual Format\n\n\nThis supportive environment is perfect for anyone affected by a loved one’s cancer diagnosis. The group is both educational and encouraging in nature. It provides a venue for caregivers to vent their frustrations and seek support from others in a similar situation. Anticipatory grief\, intimacy issues\, and other familial concerns are discussed.  \n \n\nIf you are not already a WeSPARK guest\, click here to get started.
URL:https://wespark.org/event/caregivers-support-group-2024/2024-05-07/
LOCATION:CA
ATTACH;FMTTYPE=image/jpeg:https://wespark.org/wp-content/uploads/2021/02/Caregiver-SG-12X6-2.jpg
END:VEVENT
BEGIN:VEVENT
DTSTART;TZID=America/Los_Angeles:20240508T103000
DTEND;TZID=America/Los_Angeles:20240508T113000
DTSTAMP:20260419T070951
CREATED:20231215T200457Z
LAST-MODIFIED:20240923T221424Z
UID:10014702-1715164200-1715167800@wespark.org
SUMMARY:Yoga with Michelle
DESCRIPTION:In-person Format\nJoin Michelle Rappaport for yoga in person at our center. \nThis is a gentle class for all levels\, for all people in all phases of their cancer journey. This movement class helps relieve anxiety and promotes better sleep \nSpace is limited so please register in advance to participate. Please call us at 818.906.3022 or email us to signup. \nEMAIL US
URL:https://wespark.org/event/yoga-with-michelle-2024/2024-05-08/
LOCATION:CA
ATTACH;FMTTYPE=image/png:https://wespark.org/wp-content/uploads/2022/07/Yoga-with-Michelle-Web-2022-2.png
END:VEVENT
BEGIN:VEVENT
DTSTART;TZID=America/Los_Angeles:20240508T130000
DTEND;TZID=America/Los_Angeles:20240508T140000
DTSTAMP:20260419T070951
CREATED:20231215T204820Z
LAST-MODIFIED:20231215T204849Z
UID:10014769-1715173200-1715176800@wespark.org
SUMMARY:Guided Imagery
DESCRIPTION:Virtual Format\n\n\nThis in-demand guided journey continues. Join Cheryl for a relaxing practice that will leave you rested and ready to take on the rest of your day. Each month introduces a new theme. \n\n\n\n\n\n\n\n\n\n 
URL:https://wespark.org/event/guided-imagery-2024/2024-05-08/
LOCATION:CA
ATTACH;FMTTYPE=image/jpeg:https://wespark.org/wp-content/uploads/2020/11/Guided-Imagery-12X6-2.jpg
END:VEVENT
BEGIN:VEVENT
DTSTART;TZID=America/Los_Angeles:20240508T143000
DTEND;TZID=America/Los_Angeles:20240508T153000
DTSTAMP:20260419T070951
CREATED:20231215T205608Z
LAST-MODIFIED:20231215T205622Z
UID:10014871-1715178600-1715182200@wespark.org
SUMMARY:In Treatment Support Group
DESCRIPTION:Virtual Format\n\nThis group is designed for people diagnosed with cancer who are in any stage of treatment. This includes people with impending surgery and those undergoing radiation and/or chemotherapy. This group provides a warm and safe environment and focuses on issues such as medical treatment\, clinical trials\, fear and anxiety\, and familial relationships. \n\n\n\n\n\n\n\n\n\n 
URL:https://wespark.org/event/in-treatment-support-group-2024/2024-05-08/
LOCATION:CA
ATTACH;FMTTYPE=image/jpeg:https://wespark.org/wp-content/uploads/2021/02/In-Treatments-SG-2-1.jpg
END:VEVENT
BEGIN:VEVENT
DTSTART;TZID=America/Los_Angeles:20240508T173000
DTEND;TZID=America/Los_Angeles:20240508T183000
DTSTAMP:20260419T070951
CREATED:20240102T234147Z
LAST-MODIFIED:20240320T193026Z
UID:10014925-1715189400-1715193000@wespark.org
SUMMARY:Partner Grief Support Group
DESCRIPTION:Virtual Format\n\nThis co-ed support group for spouses and life partners provides a safe place for people who have lost their loved one to cancer. In the company of others who are going through similar loss\, we can find understanding and hope which eases the pain of losing a loved one. \n\n\n\n\n\n\n\n\n\n\n\n 
URL:https://wespark.org/event/partner-grief-support-group/2024-05-08/
LOCATION:CA
ATTACH;FMTTYPE=image/jpeg:https://wespark.org/wp-content/uploads/2021/02/Partner-Grief-SG-1.jpg
END:VEVENT
BEGIN:VEVENT
DTSTART;TZID=America/Los_Angeles:20240508T180000
DTEND;TZID=America/Los_Angeles:20240508T190000
DTSTAMP:20260419T070951
CREATED:20240102T234746Z
LAST-MODIFIED:20240102T234822Z
UID:10015028-1715191200-1715194800@wespark.org
SUMMARY:Family Grief Support Group
DESCRIPTION:Virtual Format\n\nThis support group is for people who have lost a family member (other than a spouse or partner) or friend to cancer. By discussing fears\, anxieties and the loneliness of loss\, one can find hope and acceptance. In the company of others who are going through similar loss\, we can find understanding which eases the pain of losing a loved one.\n\n\n\n\n\n\n\n\n\n\n 
URL:https://wespark.org/event/family-grief-support-group-2024/2024-05-08/
LOCATION:CA
ATTACH;FMTTYPE=image/jpeg:https://wespark.org/wp-content/uploads/2021/02/Family-Grief-SG-12X6-2.jpg
END:VEVENT
BEGIN:VEVENT
DTSTART;TZID=America/Los_Angeles:20240509T101500
DTEND;TZID=America/Los_Angeles:20240509T111500
DTSTAMP:20260419T070951
CREATED:20231214T205140Z
LAST-MODIFIED:20231214T205140Z
UID:10014367-1715249700-1715253300@wespark.org
SUMMARY:Ongoing Treatment Support Group
DESCRIPTION:Virtual Format\n\nThis nurturing group focuses on issues relevant to those with a metastatic\, advanced diagnosis of cancer such as how to be a better advocate as well as enhance the quality of one’s life. Other issues discussed are body image\, familial concerns\, symptom management\, pain control\, anticipatory grief\, and anxiety. \n\n\n\n\n\n\n\n\n\n 
URL:https://wespark.org/event/ongoing-treatment-support-group-2/2024-05-09/
LOCATION:CA
ATTACH;FMTTYPE=image/jpeg:https://wespark.org/wp-content/uploads/2021/02/Ongoing-Treatment-and-Metastatic-SG-1.jpg
END:VEVENT
BEGIN:VEVENT
DTSTART;TZID=America/Los_Angeles:20240509T140000
DTEND;TZID=America/Los_Angeles:20240509T150000
DTSTAMP:20260419T070951
CREATED:20240103T000009Z
LAST-MODIFIED:20240103T000010Z
UID:10015183-1715263200-1715266800@wespark.org
SUMMARY:Men's Support Group
DESCRIPTION:Virtual Format\n\nLed by a physician and therapist\, this group is for men in all stages of a cancer diagnosis\, treatment\, or after treatment. Learn strategies for coping with diagnosis\, side effects from treatment\, fear and anxiety and familial relationships.\n\n\n\n\n\n\n\n\n\n\n 
URL:https://wespark.org/event/mens-support-group-2024-2/2024-05-09/
LOCATION:CA
ATTACH;FMTTYPE=image/jpeg:https://wespark.org/wp-content/uploads/2021/02/Mens-SG-1.jpg
END:VEVENT
BEGIN:VEVENT
DTSTART;TZID=America/Los_Angeles:20240509T150000
DTEND;TZID=America/Los_Angeles:20240509T160000
DTSTAMP:20260419T070951
CREATED:20240423T195425Z
LAST-MODIFIED:20240506T171122Z
UID:10016058-1715266800-1715270400@wespark.org
SUMMARY:Jewelry Making Workshop
DESCRIPTION:In-person Format\n\nJoin us for our Jewelry Making Workshop to create a unique jewelry piece to keep or gift to a loved one. Our theme for May is naturally Mother’s Day. All materials are provided\, but you may bring a personal item to incorporate into your design. Participants do not need prior experience to attend this fun workshop.\nThere’s limited space at this in-person only workshop\, so please reserve your spot today.\n\n\nEMAIL TO SIGN UP
URL:https://wespark.org/event/jewelry-making-workshop-2024-05/
LOCATION:CA
CATEGORIES:rsvp,thisweek
ATTACH;FMTTYPE=image/png:https://wespark.org/wp-content/uploads/2021/03/Jewelry-Making-Web.png
END:VEVENT
BEGIN:VEVENT
DTSTART;TZID=America/Los_Angeles:20240509T170000
DTEND;TZID=America/Los_Angeles:20240509T180000
DTSTAMP:20260419T070951
CREATED:20240103T000538Z
LAST-MODIFIED:20240103T000538Z
UID:10015287-1715274000-1715277600@wespark.org
SUMMARY:Doing Cancer Solo Support Group
DESCRIPTION:Virtual Format\n\nThis is a group for anyone who feels like they are facing cancer alone- either without the support of a partner\, or a family. We will share tools and strategies that help to differentiate between feelings and circumstances\, while helping to deepen connections to ourselves and creating community.\n\n\n\n\n\n\n\n\n\n\n 
URL:https://wespark.org/event/doing-cancer-solo-support-group/2024-05-09/
LOCATION:CA
ATTACH;FMTTYPE=image/jpeg:https://wespark.org/wp-content/uploads/2021/02/Doing-Cancer-Solo-SG-2021-12X6-2.jpg
END:VEVENT
BEGIN:VEVENT
DTSTART;TZID=America/Los_Angeles:20240509T180000
DTEND;TZID=America/Los_Angeles:20240509T190000
DTSTAMP:20260419T070951
CREATED:20240103T003309Z
LAST-MODIFIED:20240103T003309Z
UID:10015345-1715277600-1715281200@wespark.org
SUMMARY:Breast Cancer Support Group
DESCRIPTION:Virtual Format\n\nThis group is for women with breast cancer in all stages\, from diagnosis to survivorship. Participants will cultivate community\, share resources\, and find supportive conversations.\n\n\n\n\n\n\n\n\n\n\n 
URL:https://wespark.org/event/breast-cancer-support-group-2024/2024-05-09/
LOCATION:CA
ATTACH;FMTTYPE=image/jpeg:https://wespark.org/wp-content/uploads/2021/02/Breast-Cancer-SG-2021-12X6-2.jpg
END:VEVENT
BEGIN:VEVENT
DTSTART;TZID=America/Los_Angeles:20240510T100000
DTEND;TZID=America/Los_Angeles:20240510T110000
DTSTAMP:20260419T070951
CREATED:20240506T171332Z
LAST-MODIFIED:20240506T171333Z
UID:10016001-1715335200-1715338800@wespark.org
SUMMARY:Guided Imagery Friday
DESCRIPTION:with Valerie Luna\, C.Ht.\nVirtual Format\n\nThis in-demand guided journey continues. Join Valerie Luna on Fridays in February for Guided Imagery. This program is a fusion of Reiki and guided imagery and can help relieve stress\, reduce pain\, increase energy\, stabilize thoughts and create inner harmony. \nPlease call 818.906.3022 or email us at registration@wespark.org register for this featured program.
URL:https://wespark.org/event/guided-imagery-friday-2024-05-3/
LOCATION:CA
CATEGORIES:rsvp,thisweek
ATTACH;FMTTYPE=image/png:https://wespark.org/wp-content/uploads/2023/09/2023-Reiki-GI.png
END:VEVENT
BEGIN:VEVENT
DTSTART;TZID=America/Los_Angeles:20240511T141500
DTEND;TZID=America/Los_Angeles:20240511T151500
DTSTAMP:20260419T070951
CREATED:20240103T214618Z
LAST-MODIFIED:20240103T214618Z
UID:10015448-1715436900-1715440500@wespark.org
SUMMARY:Yoga with Yovanni
DESCRIPTION:Virtual Format\n\nJoin Yovanni for online yoga from the comfort of your home on Saturdays. This popular exercise helps relieve anxiety and promotes better sleep. Space is limited\, so please register to reserve your spot and receive the link for the class. \nRegister Now\n\n\n\n\n\n\n\n\n\n\n 
URL:https://wespark.org/event/yoga-with-yovanni-2024/2024-05-11/
LOCATION:CA
ATTACH;FMTTYPE=image/jpeg:https://wespark.org/wp-content/uploads/2020/11/Yoga-with-Yovanni-2021-12X6-2.jpg
END:VEVENT
BEGIN:VEVENT
DTSTART;TZID=America/Los_Angeles:20240514T100000
DTEND;TZID=America/Los_Angeles:20240514T110000
DTSTAMP:20260419T070951
CREATED:20240305T174445Z
LAST-MODIFIED:20240701T184531Z
UID:10015843-1715680800-1715684400@wespark.org
SUMMARY:Yoga with Victoria
DESCRIPTION:Virtual Format\n\n\nJoin Victoria from Perseverance Yoga for a morning opportunity to stretch and build a healthy routine. Yoga helps reduce stress and improve quality of life. With Victoria Gluchoski. Please register to reserve your spot at this yoga class via Zoom.
URL:https://wespark.org/event/yoga-with-victoria-2024/2024-05-14/
LOCATION:CA
ATTACH;FMTTYPE=image/jpeg:https://wespark.org/wp-content/uploads/2020/11/Yoga-with-Victoria-12X61.jpg
END:VEVENT
BEGIN:VEVENT
DTSTART;TZID=America/Los_Angeles:20240514T150000
DTEND;TZID=America/Los_Angeles:20240514T160000
DTSTAMP:20260419T070951
CREATED:20240402T225526Z
LAST-MODIFIED:20240402T225526Z
UID:10015962-1715698800-1715702400@wespark.org
SUMMARY:QI Gong & Meditation for Cancer Support
DESCRIPTION:Virtual Format\n\n\nEd Sullivan leads this class that combines exercises and powerful meditations to help restore and maintain health and wellness. This weekly practice helps reduce fatigue\, brain fog\, anxiety\, and numbness or tingling in your hands and feet. This practice can be done from a standing or seated position. \nJoin Ed on Tuesday at 1 PM. \n\n\n\n\n\n\n\n\n\n 
URL:https://wespark.org/event/qi-gong-meditation-for-cancer-support-3-2-2/2024-05-14/
LOCATION:CA
ATTACH;FMTTYPE=image/jpeg:https://wespark.org/wp-content/uploads/2020/11/Qi-Gong-12x6-2.jpg
END:VEVENT
BEGIN:VEVENT
DTSTART;TZID=America/Los_Angeles:20240514T190000
DTEND;TZID=America/Los_Angeles:20240514T200000
DTSTAMP:20260419T070951
CREATED:20231215T195327Z
LAST-MODIFIED:20240722T225824Z
UID:10014602-1715713200-1715716800@wespark.org
SUMMARY:Caregivers Support Group
DESCRIPTION:  \nVirtual Format\n\n\nThis supportive environment is perfect for anyone affected by a loved one’s cancer diagnosis. The group is both educational and encouraging in nature. It provides a venue for caregivers to vent their frustrations and seek support from others in a similar situation. Anticipatory grief\, intimacy issues\, and other familial concerns are discussed.  \n \n\nIf you are not already a WeSPARK guest\, click here to get started.
URL:https://wespark.org/event/caregivers-support-group-2024/2024-05-14/
LOCATION:CA
ATTACH;FMTTYPE=image/jpeg:https://wespark.org/wp-content/uploads/2021/02/Caregiver-SG-12X6-2.jpg
END:VEVENT
BEGIN:VEVENT
DTSTART;TZID=America/Los_Angeles:20240515T103000
DTEND;TZID=America/Los_Angeles:20240515T113000
DTSTAMP:20260419T070951
CREATED:20231215T200457Z
LAST-MODIFIED:20240923T221424Z
UID:10014703-1715769000-1715772600@wespark.org
SUMMARY:Yoga with Michelle
DESCRIPTION:In-person Format\nJoin Michelle Rappaport for yoga in person at our center. \nThis is a gentle class for all levels\, for all people in all phases of their cancer journey. This movement class helps relieve anxiety and promotes better sleep \nSpace is limited so please register in advance to participate. Please call us at 818.906.3022 or email us to signup. \nEMAIL US
URL:https://wespark.org/event/yoga-with-michelle-2024/2024-05-15/
LOCATION:CA
ATTACH;FMTTYPE=image/png:https://wespark.org/wp-content/uploads/2022/07/Yoga-with-Michelle-Web-2022-2.png
END:VEVENT
BEGIN:VEVENT
DTSTART;TZID=America/Los_Angeles:20240515T130000
DTEND;TZID=America/Los_Angeles:20240515T140000
DTSTAMP:20260419T070951
CREATED:20231215T204820Z
LAST-MODIFIED:20231215T204849Z
UID:10014770-1715778000-1715781600@wespark.org
SUMMARY:Guided Imagery
DESCRIPTION:Virtual Format\n\n\nThis in-demand guided journey continues. Join Cheryl for a relaxing practice that will leave you rested and ready to take on the rest of your day. Each month introduces a new theme. \n\n\n\n\n\n\n\n\n\n 
URL:https://wespark.org/event/guided-imagery-2024/2024-05-15/
LOCATION:CA
ATTACH;FMTTYPE=image/jpeg:https://wespark.org/wp-content/uploads/2020/11/Guided-Imagery-12X6-2.jpg
END:VEVENT
BEGIN:VEVENT
DTSTART;TZID=America/Los_Angeles:20240515T143000
DTEND;TZID=America/Los_Angeles:20240515T153000
DTSTAMP:20260419T070951
CREATED:20231215T205608Z
LAST-MODIFIED:20231215T205622Z
UID:10014872-1715783400-1715787000@wespark.org
SUMMARY:In Treatment Support Group
DESCRIPTION:Virtual Format\n\nThis group is designed for people diagnosed with cancer who are in any stage of treatment. This includes people with impending surgery and those undergoing radiation and/or chemotherapy. This group provides a warm and safe environment and focuses on issues such as medical treatment\, clinical trials\, fear and anxiety\, and familial relationships. \n\n\n\n\n\n\n\n\n\n 
URL:https://wespark.org/event/in-treatment-support-group-2024/2024-05-15/
LOCATION:CA
ATTACH;FMTTYPE=image/jpeg:https://wespark.org/wp-content/uploads/2021/02/In-Treatments-SG-2-1.jpg
END:VEVENT
BEGIN:VEVENT
DTSTART;TZID=America/Los_Angeles:20240515T173000
DTEND;TZID=America/Los_Angeles:20240515T183000
DTSTAMP:20260419T070951
CREATED:20240102T234147Z
LAST-MODIFIED:20240320T193026Z
UID:10014926-1715794200-1715797800@wespark.org
SUMMARY:Partner Grief Support Group
DESCRIPTION:Virtual Format\n\nThis co-ed support group for spouses and life partners provides a safe place for people who have lost their loved one to cancer. In the company of others who are going through similar loss\, we can find understanding and hope which eases the pain of losing a loved one. \n\n\n\n\n\n\n\n\n\n\n\n 
URL:https://wespark.org/event/partner-grief-support-group/2024-05-15/
LOCATION:CA
ATTACH;FMTTYPE=image/jpeg:https://wespark.org/wp-content/uploads/2021/02/Partner-Grief-SG-1.jpg
END:VEVENT
END:VCALENDAR