BEGIN:VCALENDAR
VERSION:2.0
PRODID:-//WeSPARK - ECPv6.15.17.1//NONSGML v1.0//EN
CALSCALE:GREGORIAN
METHOD:PUBLISH
X-ORIGINAL-URL:https://wespark.org
X-WR-CALDESC:Events for WeSPARK
REFRESH-INTERVAL;VALUE=DURATION:PT1H
X-Robots-Tag:noindex
X-PUBLISHED-TTL:PT1H
BEGIN:VTIMEZONE
TZID:America/Los_Angeles
BEGIN:DAYLIGHT
TZOFFSETFROM:-0800
TZOFFSETTO:-0700
TZNAME:PDT
DTSTART:20240310T100000
END:DAYLIGHT
BEGIN:STANDARD
TZOFFSETFROM:-0700
TZOFFSETTO:-0800
TZNAME:PST
DTSTART:20241103T090000
END:STANDARD
BEGIN:DAYLIGHT
TZOFFSETFROM:-0800
TZOFFSETTO:-0700
TZNAME:PDT
DTSTART:20250309T100000
END:DAYLIGHT
BEGIN:STANDARD
TZOFFSETFROM:-0700
TZOFFSETTO:-0800
TZNAME:PST
DTSTART:20251102T090000
END:STANDARD
BEGIN:DAYLIGHT
TZOFFSETFROM:-0800
TZOFFSETTO:-0700
TZNAME:PDT
DTSTART:20260308T100000
END:DAYLIGHT
BEGIN:STANDARD
TZOFFSETFROM:-0700
TZOFFSETTO:-0800
TZNAME:PST
DTSTART:20261101T090000
END:STANDARD
END:VTIMEZONE
BEGIN:VEVENT
DTSTART;TZID=America/Los_Angeles:20251204T140000
DTEND;TZID=America/Los_Angeles:20251204T153000
DTSTAMP:20260419T082020
CREATED:20250521T184950Z
LAST-MODIFIED:20250521T185246Z
UID:10016768-1764856800-1764862200@wespark.org
SUMMARY:Men's Support Group
DESCRIPTION:with Stephen Lottenberg\, MD\, PsyD\nZoom Format\n\nLed by a physician and therapist\, this group is for men in all stages of a cancer diagnosis\, treatment\, or after treatment. Learn strategies for coping with diagnosis\, side effects from treatment\, fear and anxiety and familial relationships.\n \n\n\n\n\n\n\n\n\n\n\n 
URL:https://wespark.org/event/mens-support-group-2025-2/2025-12-04/
ATTACH;FMTTYPE=image/jpeg:https://wespark.org/wp-content/uploads/2021/02/Mens-SG-1.jpg
END:VEVENT
BEGIN:VEVENT
DTSTART;TZID=America/Los_Angeles:20251211T140000
DTEND;TZID=America/Los_Angeles:20251211T153000
DTSTAMP:20260419T082020
CREATED:20250521T184950Z
LAST-MODIFIED:20250521T185246Z
UID:10016769-1765461600-1765467000@wespark.org
SUMMARY:Men's Support Group
DESCRIPTION:with Stephen Lottenberg\, MD\, PsyD\nZoom Format\n\nLed by a physician and therapist\, this group is for men in all stages of a cancer diagnosis\, treatment\, or after treatment. Learn strategies for coping with diagnosis\, side effects from treatment\, fear and anxiety and familial relationships.\n \n\n\n\n\n\n\n\n\n\n\n 
URL:https://wespark.org/event/mens-support-group-2025-2/2025-12-11/
ATTACH;FMTTYPE=image/jpeg:https://wespark.org/wp-content/uploads/2021/02/Mens-SG-1.jpg
END:VEVENT
BEGIN:VEVENT
DTSTART;TZID=America/Los_Angeles:20251218T140000
DTEND;TZID=America/Los_Angeles:20251218T153000
DTSTAMP:20260419T082020
CREATED:20250521T184950Z
LAST-MODIFIED:20250521T185246Z
UID:10016770-1766066400-1766071800@wespark.org
SUMMARY:Men's Support Group
DESCRIPTION:with Stephen Lottenberg\, MD\, PsyD\nZoom Format\n\nLed by a physician and therapist\, this group is for men in all stages of a cancer diagnosis\, treatment\, or after treatment. Learn strategies for coping with diagnosis\, side effects from treatment\, fear and anxiety and familial relationships.\n \n\n\n\n\n\n\n\n\n\n\n 
URL:https://wespark.org/event/mens-support-group-2025-2/2025-12-18/
ATTACH;FMTTYPE=image/jpeg:https://wespark.org/wp-content/uploads/2021/02/Mens-SG-1.jpg
END:VEVENT
BEGIN:VEVENT
DTSTART;TZID=America/Los_Angeles:20251223T140000
DTEND;TZID=America/Los_Angeles:20251223T153000
DTSTAMP:20260419T082020
CREATED:20251119T225121Z
LAST-MODIFIED:20251119T230308Z
UID:10016771-1766498400-1766503800@wespark.org
SUMMARY:Men's Support Group
DESCRIPTION:with Stephen Lottenberg\, MD\, PsyD\nZoom Format\n\nLed by a physician and therapist\, this group is for men in all stages of a cancer diagnosis\, treatment\, or after treatment. Learn strategies for coping with diagnosis\, side effects from treatment\, fear and anxiety and familial relationships.\n \n\n\n\n\n\n\n\n\n\n\n 
URL:https://wespark.org/event/mens-support-group-2025-2-2/
ATTACH;FMTTYPE=image/jpeg:https://wespark.org/wp-content/uploads/2021/02/Mens-SG-1.jpg
END:VEVENT
BEGIN:VEVENT
DTSTART;TZID=America/Los_Angeles:20251230T140000
DTEND;TZID=America/Los_Angeles:20251230T153000
DTSTAMP:20260419T082020
CREATED:20251120T213345Z
LAST-MODIFIED:20251120T213345Z
UID:10018315-1767103200-1767108600@wespark.org
SUMMARY:Men's Support Group
DESCRIPTION:with Stephen Lottenberg\, MD\, PsyD\nZoom Format\n\nLed by a physician and therapist\, this group is for men in all stages of a cancer diagnosis\, treatment\, or after treatment. Learn strategies for coping with diagnosis\, side effects from treatment\, fear and anxiety and familial relationships.\n \n\n\n\n\n\n\n\n\n\n\n 
URL:https://wespark.org/event/mens-support-group-2025-2-2-2/
ATTACH;FMTTYPE=image/jpeg:https://wespark.org/wp-content/uploads/2021/02/Mens-SG-1.jpg
END:VEVENT
END:VCALENDAR