BEGIN:VCALENDAR
VERSION:2.0
PRODID:-//WeSPARK - ECPv6.15.17.1//NONSGML v1.0//EN
CALSCALE:GREGORIAN
METHOD:PUBLISH
X-WR-CALNAME:WeSPARK
X-ORIGINAL-URL:https://wespark.org
X-WR-CALDESC:Events for WeSPARK
REFRESH-INTERVAL;VALUE=DURATION:PT1H
X-Robots-Tag:noindex
X-PUBLISHED-TTL:PT1H
BEGIN:VTIMEZONE
TZID:America/Los_Angeles
BEGIN:DAYLIGHT
TZOFFSETFROM:-0800
TZOFFSETTO:-0700
TZNAME:PDT
DTSTART:20250309T100000
END:DAYLIGHT
BEGIN:STANDARD
TZOFFSETFROM:-0700
TZOFFSETTO:-0800
TZNAME:PST
DTSTART:20251102T090000
END:STANDARD
BEGIN:DAYLIGHT
TZOFFSETFROM:-0800
TZOFFSETTO:-0700
TZNAME:PDT
DTSTART:20260308T100000
END:DAYLIGHT
BEGIN:STANDARD
TZOFFSETFROM:-0700
TZOFFSETTO:-0800
TZNAME:PST
DTSTART:20261101T090000
END:STANDARD
BEGIN:DAYLIGHT
TZOFFSETFROM:-0800
TZOFFSETTO:-0700
TZNAME:PDT
DTSTART:20270314T100000
END:DAYLIGHT
BEGIN:STANDARD
TZOFFSETFROM:-0700
TZOFFSETTO:-0800
TZNAME:PST
DTSTART:20271107T090000
END:STANDARD
END:VTIMEZONE
BEGIN:VEVENT
DTSTART;TZID=America/Los_Angeles:20260911T100000
DTEND;TZID=America/Los_Angeles:20260911T110000
DTSTAMP:20260423T094711
CREATED:20260116T204114Z
LAST-MODIFIED:20260116T204115Z
UID:10018760-1789120800-1789124400@wespark.org
SUMMARY:Guided Imagery Friday
DESCRIPTION:with Valerie Luna\, C.Ht.\nVirtual Format\n\nThis in-demand guided journey continues. Join Valerie Luna on Fridays for Guided Imagery. This program can help relieve stress\, reduce pain\, increase energy\, stabilize thoughts and create inner harmony. \nPlease call 818.906.3022 or email us at registration@wespark.org register for this featured program.
URL:https://wespark.org/event/guided-imagery-friday-2026-2/2026-09-11/
ATTACH;FMTTYPE=image/png:https://wespark.org/wp-content/uploads/2023/09/2023-Reiki-GI.png
END:VEVENT
BEGIN:VEVENT
DTSTART;TZID=America/Los_Angeles:20260916T130000
DTEND;TZID=America/Los_Angeles:20260916T140000
DTSTAMP:20260423T094711
CREATED:20251215T202818Z
LAST-MODIFIED:20251215T203103Z
UID:10018524-1789563600-1789567200@wespark.org
SUMMARY:Guided Imagery
DESCRIPTION:with Cheryl O’Neil\nVirtual Format\n\n\nThis in-demand guided journey continues. Join Cheryl for a relaxing practice that will leave you rested and ready to take on the rest of your day. Each month introduces a new theme. \n\n\n\n\n\n\n\n\n\n 
URL:https://wespark.org/event/guided-imagery-2026/2026-09-16/
ATTACH;FMTTYPE=image/jpeg:https://wespark.org/wp-content/uploads/2020/11/Guided-Imagery-12X6-2.jpg
END:VEVENT
BEGIN:VEVENT
DTSTART;TZID=America/Los_Angeles:20260918T100000
DTEND;TZID=America/Los_Angeles:20260918T110000
DTSTAMP:20260423T094711
CREATED:20260116T204114Z
LAST-MODIFIED:20260116T204115Z
UID:10018761-1789725600-1789729200@wespark.org
SUMMARY:Guided Imagery Friday
DESCRIPTION:with Valerie Luna\, C.Ht.\nVirtual Format\n\nThis in-demand guided journey continues. Join Valerie Luna on Fridays for Guided Imagery. This program can help relieve stress\, reduce pain\, increase energy\, stabilize thoughts and create inner harmony. \nPlease call 818.906.3022 or email us at registration@wespark.org register for this featured program.
URL:https://wespark.org/event/guided-imagery-friday-2026-2/2026-09-18/
ATTACH;FMTTYPE=image/png:https://wespark.org/wp-content/uploads/2023/09/2023-Reiki-GI.png
END:VEVENT
BEGIN:VEVENT
DTSTART;TZID=America/Los_Angeles:20260923T130000
DTEND;TZID=America/Los_Angeles:20260923T140000
DTSTAMP:20260423T094711
CREATED:20251215T202818Z
LAST-MODIFIED:20251215T203103Z
UID:10018525-1790168400-1790172000@wespark.org
SUMMARY:Guided Imagery
DESCRIPTION:with Cheryl O’Neil\nVirtual Format\n\n\nThis in-demand guided journey continues. Join Cheryl for a relaxing practice that will leave you rested and ready to take on the rest of your day. Each month introduces a new theme. \n\n\n\n\n\n\n\n\n\n 
URL:https://wespark.org/event/guided-imagery-2026/2026-09-23/
ATTACH;FMTTYPE=image/jpeg:https://wespark.org/wp-content/uploads/2020/11/Guided-Imagery-12X6-2.jpg
END:VEVENT
BEGIN:VEVENT
DTSTART;TZID=America/Los_Angeles:20260925T100000
DTEND;TZID=America/Los_Angeles:20260925T110000
DTSTAMP:20260423T094711
CREATED:20260116T204114Z
LAST-MODIFIED:20260116T204115Z
UID:10018762-1790330400-1790334000@wespark.org
SUMMARY:Guided Imagery Friday
DESCRIPTION:with Valerie Luna\, C.Ht.\nVirtual Format\n\nThis in-demand guided journey continues. Join Valerie Luna on Fridays for Guided Imagery. This program can help relieve stress\, reduce pain\, increase energy\, stabilize thoughts and create inner harmony. \nPlease call 818.906.3022 or email us at registration@wespark.org register for this featured program.
URL:https://wespark.org/event/guided-imagery-friday-2026-2/2026-09-25/
ATTACH;FMTTYPE=image/png:https://wespark.org/wp-content/uploads/2023/09/2023-Reiki-GI.png
END:VEVENT
BEGIN:VEVENT
DTSTART;TZID=America/Los_Angeles:20260930T130000
DTEND;TZID=America/Los_Angeles:20260930T140000
DTSTAMP:20260423T094711
CREATED:20251215T202818Z
LAST-MODIFIED:20251215T203103Z
UID:10018526-1790773200-1790776800@wespark.org
SUMMARY:Guided Imagery
DESCRIPTION:with Cheryl O’Neil\nVirtual Format\n\n\nThis in-demand guided journey continues. Join Cheryl for a relaxing practice that will leave you rested and ready to take on the rest of your day. Each month introduces a new theme. \n\n\n\n\n\n\n\n\n\n 
URL:https://wespark.org/event/guided-imagery-2026/2026-09-30/
ATTACH;FMTTYPE=image/jpeg:https://wespark.org/wp-content/uploads/2020/11/Guided-Imagery-12X6-2.jpg
END:VEVENT
BEGIN:VEVENT
DTSTART;TZID=America/Los_Angeles:20261002T100000
DTEND;TZID=America/Los_Angeles:20261002T110000
DTSTAMP:20260423T094711
CREATED:20260116T204114Z
LAST-MODIFIED:20260116T204115Z
UID:10018763-1790935200-1790938800@wespark.org
SUMMARY:Guided Imagery Friday
DESCRIPTION:with Valerie Luna\, C.Ht.\nVirtual Format\n\nThis in-demand guided journey continues. Join Valerie Luna on Fridays for Guided Imagery. This program can help relieve stress\, reduce pain\, increase energy\, stabilize thoughts and create inner harmony. \nPlease call 818.906.3022 or email us at registration@wespark.org register for this featured program.
URL:https://wespark.org/event/guided-imagery-friday-2026-2/2026-10-02/
ATTACH;FMTTYPE=image/png:https://wespark.org/wp-content/uploads/2023/09/2023-Reiki-GI.png
END:VEVENT
BEGIN:VEVENT
DTSTART;TZID=America/Los_Angeles:20261007T130000
DTEND;TZID=America/Los_Angeles:20261007T140000
DTSTAMP:20260423T094711
CREATED:20251215T202818Z
LAST-MODIFIED:20251215T203103Z
UID:10018527-1791378000-1791381600@wespark.org
SUMMARY:Guided Imagery
DESCRIPTION:with Cheryl O’Neil\nVirtual Format\n\n\nThis in-demand guided journey continues. Join Cheryl for a relaxing practice that will leave you rested and ready to take on the rest of your day. Each month introduces a new theme. \n\n\n\n\n\n\n\n\n\n 
URL:https://wespark.org/event/guided-imagery-2026/2026-10-07/
ATTACH;FMTTYPE=image/jpeg:https://wespark.org/wp-content/uploads/2020/11/Guided-Imagery-12X6-2.jpg
END:VEVENT
BEGIN:VEVENT
DTSTART;TZID=America/Los_Angeles:20261009T100000
DTEND;TZID=America/Los_Angeles:20261009T110000
DTSTAMP:20260423T094711
CREATED:20260116T204114Z
LAST-MODIFIED:20260116T204115Z
UID:10018764-1791540000-1791543600@wespark.org
SUMMARY:Guided Imagery Friday
DESCRIPTION:with Valerie Luna\, C.Ht.\nVirtual Format\n\nThis in-demand guided journey continues. Join Valerie Luna on Fridays for Guided Imagery. This program can help relieve stress\, reduce pain\, increase energy\, stabilize thoughts and create inner harmony. \nPlease call 818.906.3022 or email us at registration@wespark.org register for this featured program.
URL:https://wespark.org/event/guided-imagery-friday-2026-2/2026-10-09/
ATTACH;FMTTYPE=image/png:https://wespark.org/wp-content/uploads/2023/09/2023-Reiki-GI.png
END:VEVENT
BEGIN:VEVENT
DTSTART;TZID=America/Los_Angeles:20261014T130000
DTEND;TZID=America/Los_Angeles:20261014T140000
DTSTAMP:20260423T094711
CREATED:20251215T202818Z
LAST-MODIFIED:20251215T203103Z
UID:10018528-1791982800-1791986400@wespark.org
SUMMARY:Guided Imagery
DESCRIPTION:with Cheryl O’Neil\nVirtual Format\n\n\nThis in-demand guided journey continues. Join Cheryl for a relaxing practice that will leave you rested and ready to take on the rest of your day. Each month introduces a new theme. \n\n\n\n\n\n\n\n\n\n 
URL:https://wespark.org/event/guided-imagery-2026/2026-10-14/
ATTACH;FMTTYPE=image/jpeg:https://wespark.org/wp-content/uploads/2020/11/Guided-Imagery-12X6-2.jpg
END:VEVENT
BEGIN:VEVENT
DTSTART;TZID=America/Los_Angeles:20261016T100000
DTEND;TZID=America/Los_Angeles:20261016T110000
DTSTAMP:20260423T094711
CREATED:20260116T204114Z
LAST-MODIFIED:20260116T204115Z
UID:10018765-1792144800-1792148400@wespark.org
SUMMARY:Guided Imagery Friday
DESCRIPTION:with Valerie Luna\, C.Ht.\nVirtual Format\n\nThis in-demand guided journey continues. Join Valerie Luna on Fridays for Guided Imagery. This program can help relieve stress\, reduce pain\, increase energy\, stabilize thoughts and create inner harmony. \nPlease call 818.906.3022 or email us at registration@wespark.org register for this featured program.
URL:https://wespark.org/event/guided-imagery-friday-2026-2/2026-10-16/
ATTACH;FMTTYPE=image/png:https://wespark.org/wp-content/uploads/2023/09/2023-Reiki-GI.png
END:VEVENT
BEGIN:VEVENT
DTSTART;TZID=America/Los_Angeles:20261021T130000
DTEND;TZID=America/Los_Angeles:20261021T140000
DTSTAMP:20260423T094711
CREATED:20251215T202818Z
LAST-MODIFIED:20251215T203103Z
UID:10018529-1792587600-1792591200@wespark.org
SUMMARY:Guided Imagery
DESCRIPTION:with Cheryl O’Neil\nVirtual Format\n\n\nThis in-demand guided journey continues. Join Cheryl for a relaxing practice that will leave you rested and ready to take on the rest of your day. Each month introduces a new theme. \n\n\n\n\n\n\n\n\n\n 
URL:https://wespark.org/event/guided-imagery-2026/2026-10-21/
ATTACH;FMTTYPE=image/jpeg:https://wespark.org/wp-content/uploads/2020/11/Guided-Imagery-12X6-2.jpg
END:VEVENT
BEGIN:VEVENT
DTSTART;TZID=America/Los_Angeles:20261023T100000
DTEND;TZID=America/Los_Angeles:20261023T110000
DTSTAMP:20260423T094711
CREATED:20260116T204114Z
LAST-MODIFIED:20260116T204115Z
UID:10018766-1792749600-1792753200@wespark.org
SUMMARY:Guided Imagery Friday
DESCRIPTION:with Valerie Luna\, C.Ht.\nVirtual Format\n\nThis in-demand guided journey continues. Join Valerie Luna on Fridays for Guided Imagery. This program can help relieve stress\, reduce pain\, increase energy\, stabilize thoughts and create inner harmony. \nPlease call 818.906.3022 or email us at registration@wespark.org register for this featured program.
URL:https://wespark.org/event/guided-imagery-friday-2026-2/2026-10-23/
ATTACH;FMTTYPE=image/png:https://wespark.org/wp-content/uploads/2023/09/2023-Reiki-GI.png
END:VEVENT
BEGIN:VEVENT
DTSTART;TZID=America/Los_Angeles:20261028T130000
DTEND;TZID=America/Los_Angeles:20261028T140000
DTSTAMP:20260423T094711
CREATED:20251215T202818Z
LAST-MODIFIED:20251215T203103Z
UID:10018530-1793192400-1793196000@wespark.org
SUMMARY:Guided Imagery
DESCRIPTION:with Cheryl O’Neil\nVirtual Format\n\n\nThis in-demand guided journey continues. Join Cheryl for a relaxing practice that will leave you rested and ready to take on the rest of your day. Each month introduces a new theme. \n\n\n\n\n\n\n\n\n\n 
URL:https://wespark.org/event/guided-imagery-2026/2026-10-28/
ATTACH;FMTTYPE=image/jpeg:https://wespark.org/wp-content/uploads/2020/11/Guided-Imagery-12X6-2.jpg
END:VEVENT
BEGIN:VEVENT
DTSTART;TZID=America/Los_Angeles:20261030T100000
DTEND;TZID=America/Los_Angeles:20261030T110000
DTSTAMP:20260423T094711
CREATED:20260116T204114Z
LAST-MODIFIED:20260116T204115Z
UID:10018767-1793354400-1793358000@wespark.org
SUMMARY:Guided Imagery Friday
DESCRIPTION:with Valerie Luna\, C.Ht.\nVirtual Format\n\nThis in-demand guided journey continues. Join Valerie Luna on Fridays for Guided Imagery. This program can help relieve stress\, reduce pain\, increase energy\, stabilize thoughts and create inner harmony. \nPlease call 818.906.3022 or email us at registration@wespark.org register for this featured program.
URL:https://wespark.org/event/guided-imagery-friday-2026-2/2026-10-30/
ATTACH;FMTTYPE=image/png:https://wespark.org/wp-content/uploads/2023/09/2023-Reiki-GI.png
END:VEVENT
BEGIN:VEVENT
DTSTART;TZID=America/Los_Angeles:20261104T130000
DTEND;TZID=America/Los_Angeles:20261104T140000
DTSTAMP:20260423T094711
CREATED:20251215T202818Z
LAST-MODIFIED:20251215T203103Z
UID:10018531-1793797200-1793800800@wespark.org
SUMMARY:Guided Imagery
DESCRIPTION:with Cheryl O’Neil\nVirtual Format\n\n\nThis in-demand guided journey continues. Join Cheryl for a relaxing practice that will leave you rested and ready to take on the rest of your day. Each month introduces a new theme. \n\n\n\n\n\n\n\n\n\n 
URL:https://wespark.org/event/guided-imagery-2026/2026-11-04/
ATTACH;FMTTYPE=image/jpeg:https://wespark.org/wp-content/uploads/2020/11/Guided-Imagery-12X6-2.jpg
END:VEVENT
BEGIN:VEVENT
DTSTART;TZID=America/Los_Angeles:20261106T100000
DTEND;TZID=America/Los_Angeles:20261106T110000
DTSTAMP:20260423T094711
CREATED:20260116T204114Z
LAST-MODIFIED:20260116T204115Z
UID:10018768-1793959200-1793962800@wespark.org
SUMMARY:Guided Imagery Friday
DESCRIPTION:with Valerie Luna\, C.Ht.\nVirtual Format\n\nThis in-demand guided journey continues. Join Valerie Luna on Fridays for Guided Imagery. This program can help relieve stress\, reduce pain\, increase energy\, stabilize thoughts and create inner harmony. \nPlease call 818.906.3022 or email us at registration@wespark.org register for this featured program.
URL:https://wespark.org/event/guided-imagery-friday-2026-2/2026-11-06/
ATTACH;FMTTYPE=image/png:https://wespark.org/wp-content/uploads/2023/09/2023-Reiki-GI.png
END:VEVENT
BEGIN:VEVENT
DTSTART;TZID=America/Los_Angeles:20261111T130000
DTEND;TZID=America/Los_Angeles:20261111T140000
DTSTAMP:20260423T094711
CREATED:20251215T202818Z
LAST-MODIFIED:20251215T203103Z
UID:10018532-1794402000-1794405600@wespark.org
SUMMARY:Guided Imagery
DESCRIPTION:with Cheryl O’Neil\nVirtual Format\n\n\nThis in-demand guided journey continues. Join Cheryl for a relaxing practice that will leave you rested and ready to take on the rest of your day. Each month introduces a new theme. \n\n\n\n\n\n\n\n\n\n 
URL:https://wespark.org/event/guided-imagery-2026/2026-11-11/
ATTACH;FMTTYPE=image/jpeg:https://wespark.org/wp-content/uploads/2020/11/Guided-Imagery-12X6-2.jpg
END:VEVENT
BEGIN:VEVENT
DTSTART;TZID=America/Los_Angeles:20261113T100000
DTEND;TZID=America/Los_Angeles:20261113T110000
DTSTAMP:20260423T094711
CREATED:20260116T204114Z
LAST-MODIFIED:20260116T204115Z
UID:10018769-1794564000-1794567600@wespark.org
SUMMARY:Guided Imagery Friday
DESCRIPTION:with Valerie Luna\, C.Ht.\nVirtual Format\n\nThis in-demand guided journey continues. Join Valerie Luna on Fridays for Guided Imagery. This program can help relieve stress\, reduce pain\, increase energy\, stabilize thoughts and create inner harmony. \nPlease call 818.906.3022 or email us at registration@wespark.org register for this featured program.
URL:https://wespark.org/event/guided-imagery-friday-2026-2/2026-11-13/
ATTACH;FMTTYPE=image/png:https://wespark.org/wp-content/uploads/2023/09/2023-Reiki-GI.png
END:VEVENT
BEGIN:VEVENT
DTSTART;TZID=America/Los_Angeles:20261118T130000
DTEND;TZID=America/Los_Angeles:20261118T140000
DTSTAMP:20260423T094711
CREATED:20251215T202818Z
LAST-MODIFIED:20251215T203103Z
UID:10018533-1795006800-1795010400@wespark.org
SUMMARY:Guided Imagery
DESCRIPTION:with Cheryl O’Neil\nVirtual Format\n\n\nThis in-demand guided journey continues. Join Cheryl for a relaxing practice that will leave you rested and ready to take on the rest of your day. Each month introduces a new theme. \n\n\n\n\n\n\n\n\n\n 
URL:https://wespark.org/event/guided-imagery-2026/2026-11-18/
ATTACH;FMTTYPE=image/jpeg:https://wespark.org/wp-content/uploads/2020/11/Guided-Imagery-12X6-2.jpg
END:VEVENT
BEGIN:VEVENT
DTSTART;TZID=America/Los_Angeles:20261120T100000
DTEND;TZID=America/Los_Angeles:20261120T110000
DTSTAMP:20260423T094711
CREATED:20260116T204114Z
LAST-MODIFIED:20260116T204115Z
UID:10018770-1795168800-1795172400@wespark.org
SUMMARY:Guided Imagery Friday
DESCRIPTION:with Valerie Luna\, C.Ht.\nVirtual Format\n\nThis in-demand guided journey continues. Join Valerie Luna on Fridays for Guided Imagery. This program can help relieve stress\, reduce pain\, increase energy\, stabilize thoughts and create inner harmony. \nPlease call 818.906.3022 or email us at registration@wespark.org register for this featured program.
URL:https://wespark.org/event/guided-imagery-friday-2026-2/2026-11-20/
ATTACH;FMTTYPE=image/png:https://wespark.org/wp-content/uploads/2023/09/2023-Reiki-GI.png
END:VEVENT
BEGIN:VEVENT
DTSTART;TZID=America/Los_Angeles:20261125T130000
DTEND;TZID=America/Los_Angeles:20261125T140000
DTSTAMP:20260423T094711
CREATED:20251215T202818Z
LAST-MODIFIED:20251215T203103Z
UID:10018534-1795611600-1795615200@wespark.org
SUMMARY:Guided Imagery
DESCRIPTION:with Cheryl O’Neil\nVirtual Format\n\n\nThis in-demand guided journey continues. Join Cheryl for a relaxing practice that will leave you rested and ready to take on the rest of your day. Each month introduces a new theme. \n\n\n\n\n\n\n\n\n\n 
URL:https://wespark.org/event/guided-imagery-2026/2026-11-25/
ATTACH;FMTTYPE=image/jpeg:https://wespark.org/wp-content/uploads/2020/11/Guided-Imagery-12X6-2.jpg
END:VEVENT
BEGIN:VEVENT
DTSTART;TZID=America/Los_Angeles:20261127T100000
DTEND;TZID=America/Los_Angeles:20261127T110000
DTSTAMP:20260423T094711
CREATED:20260116T204114Z
LAST-MODIFIED:20260116T204115Z
UID:10018771-1795773600-1795777200@wespark.org
SUMMARY:Guided Imagery Friday
DESCRIPTION:with Valerie Luna\, C.Ht.\nVirtual Format\n\nThis in-demand guided journey continues. Join Valerie Luna on Fridays for Guided Imagery. This program can help relieve stress\, reduce pain\, increase energy\, stabilize thoughts and create inner harmony. \nPlease call 818.906.3022 or email us at registration@wespark.org register for this featured program.
URL:https://wespark.org/event/guided-imagery-friday-2026-2/2026-11-27/
ATTACH;FMTTYPE=image/png:https://wespark.org/wp-content/uploads/2023/09/2023-Reiki-GI.png
END:VEVENT
BEGIN:VEVENT
DTSTART;TZID=America/Los_Angeles:20261202T130000
DTEND;TZID=America/Los_Angeles:20261202T140000
DTSTAMP:20260423T094711
CREATED:20251215T202818Z
LAST-MODIFIED:20251215T203103Z
UID:10018535-1796216400-1796220000@wespark.org
SUMMARY:Guided Imagery
DESCRIPTION:with Cheryl O’Neil\nVirtual Format\n\n\nThis in-demand guided journey continues. Join Cheryl for a relaxing practice that will leave you rested and ready to take on the rest of your day. Each month introduces a new theme. \n\n\n\n\n\n\n\n\n\n 
URL:https://wespark.org/event/guided-imagery-2026/2026-12-02/
ATTACH;FMTTYPE=image/jpeg:https://wespark.org/wp-content/uploads/2020/11/Guided-Imagery-12X6-2.jpg
END:VEVENT
BEGIN:VEVENT
DTSTART;TZID=America/Los_Angeles:20261204T100000
DTEND;TZID=America/Los_Angeles:20261204T110000
DTSTAMP:20260423T094711
CREATED:20260116T204114Z
LAST-MODIFIED:20260116T204115Z
UID:10018772-1796378400-1796382000@wespark.org
SUMMARY:Guided Imagery Friday
DESCRIPTION:with Valerie Luna\, C.Ht.\nVirtual Format\n\nThis in-demand guided journey continues. Join Valerie Luna on Fridays for Guided Imagery. This program can help relieve stress\, reduce pain\, increase energy\, stabilize thoughts and create inner harmony. \nPlease call 818.906.3022 or email us at registration@wespark.org register for this featured program.
URL:https://wespark.org/event/guided-imagery-friday-2026-2/2026-12-04/
ATTACH;FMTTYPE=image/png:https://wespark.org/wp-content/uploads/2023/09/2023-Reiki-GI.png
END:VEVENT
BEGIN:VEVENT
DTSTART;TZID=America/Los_Angeles:20261209T130000
DTEND;TZID=America/Los_Angeles:20261209T140000
DTSTAMP:20260423T094711
CREATED:20251215T202818Z
LAST-MODIFIED:20251215T203103Z
UID:10018536-1796821200-1796824800@wespark.org
SUMMARY:Guided Imagery
DESCRIPTION:with Cheryl O’Neil\nVirtual Format\n\n\nThis in-demand guided journey continues. Join Cheryl for a relaxing practice that will leave you rested and ready to take on the rest of your day. Each month introduces a new theme. \n\n\n\n\n\n\n\n\n\n 
URL:https://wespark.org/event/guided-imagery-2026/2026-12-09/
ATTACH;FMTTYPE=image/jpeg:https://wespark.org/wp-content/uploads/2020/11/Guided-Imagery-12X6-2.jpg
END:VEVENT
BEGIN:VEVENT
DTSTART;TZID=America/Los_Angeles:20261211T100000
DTEND;TZID=America/Los_Angeles:20261211T110000
DTSTAMP:20260423T094711
CREATED:20260116T204114Z
LAST-MODIFIED:20260116T204115Z
UID:10018773-1796983200-1796986800@wespark.org
SUMMARY:Guided Imagery Friday
DESCRIPTION:with Valerie Luna\, C.Ht.\nVirtual Format\n\nThis in-demand guided journey continues. Join Valerie Luna on Fridays for Guided Imagery. This program can help relieve stress\, reduce pain\, increase energy\, stabilize thoughts and create inner harmony. \nPlease call 818.906.3022 or email us at registration@wespark.org register for this featured program.
URL:https://wespark.org/event/guided-imagery-friday-2026-2/2026-12-11/
ATTACH;FMTTYPE=image/png:https://wespark.org/wp-content/uploads/2023/09/2023-Reiki-GI.png
END:VEVENT
BEGIN:VEVENT
DTSTART;TZID=America/Los_Angeles:20261216T130000
DTEND;TZID=America/Los_Angeles:20261216T140000
DTSTAMP:20260423T094711
CREATED:20251215T202818Z
LAST-MODIFIED:20251215T203103Z
UID:10018537-1797426000-1797429600@wespark.org
SUMMARY:Guided Imagery
DESCRIPTION:with Cheryl O’Neil\nVirtual Format\n\n\nThis in-demand guided journey continues. Join Cheryl for a relaxing practice that will leave you rested and ready to take on the rest of your day. Each month introduces a new theme. \n\n\n\n\n\n\n\n\n\n 
URL:https://wespark.org/event/guided-imagery-2026/2026-12-16/
ATTACH;FMTTYPE=image/jpeg:https://wespark.org/wp-content/uploads/2020/11/Guided-Imagery-12X6-2.jpg
END:VEVENT
BEGIN:VEVENT
DTSTART;TZID=America/Los_Angeles:20261218T100000
DTEND;TZID=America/Los_Angeles:20261218T110000
DTSTAMP:20260423T094711
CREATED:20260116T204114Z
LAST-MODIFIED:20260116T204115Z
UID:10018774-1797588000-1797591600@wespark.org
SUMMARY:Guided Imagery Friday
DESCRIPTION:with Valerie Luna\, C.Ht.\nVirtual Format\n\nThis in-demand guided journey continues. Join Valerie Luna on Fridays for Guided Imagery. This program can help relieve stress\, reduce pain\, increase energy\, stabilize thoughts and create inner harmony. \nPlease call 818.906.3022 or email us at registration@wespark.org register for this featured program.
URL:https://wespark.org/event/guided-imagery-friday-2026-2/2026-12-18/
ATTACH;FMTTYPE=image/png:https://wespark.org/wp-content/uploads/2023/09/2023-Reiki-GI.png
END:VEVENT
BEGIN:VEVENT
DTSTART;TZID=America/Los_Angeles:20261223T130000
DTEND;TZID=America/Los_Angeles:20261223T140000
DTSTAMP:20260423T094711
CREATED:20251215T202818Z
LAST-MODIFIED:20251215T203103Z
UID:10018538-1798030800-1798034400@wespark.org
SUMMARY:Guided Imagery
DESCRIPTION:with Cheryl O’Neil\nVirtual Format\n\n\nThis in-demand guided journey continues. Join Cheryl for a relaxing practice that will leave you rested and ready to take on the rest of your day. Each month introduces a new theme. \n\n\n\n\n\n\n\n\n\n 
URL:https://wespark.org/event/guided-imagery-2026/2026-12-23/
ATTACH;FMTTYPE=image/jpeg:https://wespark.org/wp-content/uploads/2020/11/Guided-Imagery-12X6-2.jpg
END:VEVENT
END:VCALENDAR