BEGIN:VCALENDAR
VERSION:2.0
PRODID:-//WeSPARK - ECPv6.15.17.1//NONSGML v1.0//EN
CALSCALE:GREGORIAN
METHOD:PUBLISH
X-WR-CALNAME:WeSPARK
X-ORIGINAL-URL:https://wespark.org
X-WR-CALDESC:Events for WeSPARK
REFRESH-INTERVAL;VALUE=DURATION:PT1H
X-Robots-Tag:noindex
X-PUBLISHED-TTL:PT1H
BEGIN:VTIMEZONE
TZID:America/Los_Angeles
BEGIN:DAYLIGHT
TZOFFSETFROM:-0800
TZOFFSETTO:-0700
TZNAME:PDT
DTSTART:20240310T100000
END:DAYLIGHT
BEGIN:STANDARD
TZOFFSETFROM:-0700
TZOFFSETTO:-0800
TZNAME:PST
DTSTART:20241103T090000
END:STANDARD
BEGIN:DAYLIGHT
TZOFFSETFROM:-0800
TZOFFSETTO:-0700
TZNAME:PDT
DTSTART:20250309T100000
END:DAYLIGHT
BEGIN:STANDARD
TZOFFSETFROM:-0700
TZOFFSETTO:-0800
TZNAME:PST
DTSTART:20251102T090000
END:STANDARD
BEGIN:DAYLIGHT
TZOFFSETFROM:-0800
TZOFFSETTO:-0700
TZNAME:PDT
DTSTART:20260308T100000
END:DAYLIGHT
BEGIN:STANDARD
TZOFFSETFROM:-0700
TZOFFSETTO:-0800
TZNAME:PST
DTSTART:20261101T090000
END:STANDARD
END:VTIMEZONE
BEGIN:VEVENT
DTSTART;TZID=America/Los_Angeles:20250213T120000
DTEND;TZID=America/Los_Angeles:20250213T130000
DTSTAMP:20260421T052715
CREATED:20250121T223227Z
LAST-MODIFIED:20250210T225208Z
UID:10017162-1739448000-1739451600@wespark.org
SUMMARY:Sexual Healing and Cancer Talk
DESCRIPTION:with Dr. Anne Katz\, PhD\, RN\, FAAN\n\n\nVirtual Format\n\nPlease join Dr. Anne Katz for an informative conversation on sexual health and cancer. This talk and Q&A is a free community conversation; everyone is invited to this virtual event.\n\nTopics covered will include: \n\nUnderstanding the emotional and psychological effects of cancer on sexuality.\nAddressing physical changes and sexual side effects of cancer treatment.\nStrategies for communicating with partners and healthcare providers about sexual concerns.\n\nDr. Anne Katz\, PhD\, RN\, FAAN is a certified sexuality counselor. She is the author of 17 books on cancer and sexuality\, cancer survivorship\, and young adult cancer.. \n\n\n\nPlease register early to reserve your spot for this virtual-only program.\n\nEMAIL US TO REGISTER
URL:https://wespark.org/event/sexual-healing-and-cancer-talk-2025-02/
CATEGORIES:rsvp,thisweek
ATTACH;FMTTYPE=image/png:https://wespark.org/wp-content/uploads/2025/01/Let-Talk-About-it.png
END:VEVENT
END:VCALENDAR