BEGIN:VCALENDAR
VERSION:2.0
PRODID:-//WeSPARK - ECPv6.15.17.1//NONSGML v1.0//EN
CALSCALE:GREGORIAN
METHOD:PUBLISH
X-WR-CALNAME:WeSPARK
X-ORIGINAL-URL:https://wespark.org
X-WR-CALDESC:Events for WeSPARK
REFRESH-INTERVAL;VALUE=DURATION:PT1H
X-Robots-Tag:noindex
X-PUBLISHED-TTL:PT1H
BEGIN:VTIMEZONE
TZID:America/Los_Angeles
BEGIN:DAYLIGHT
TZOFFSETFROM:-0800
TZOFFSETTO:-0700
TZNAME:PDT
DTSTART:20170312T100000
END:DAYLIGHT
BEGIN:STANDARD
TZOFFSETFROM:-0700
TZOFFSETTO:-0800
TZNAME:PST
DTSTART:20171105T090000
END:STANDARD
BEGIN:DAYLIGHT
TZOFFSETFROM:-0800
TZOFFSETTO:-0700
TZNAME:PDT
DTSTART:20180311T100000
END:DAYLIGHT
BEGIN:STANDARD
TZOFFSETFROM:-0700
TZOFFSETTO:-0800
TZNAME:PST
DTSTART:20181104T090000
END:STANDARD
BEGIN:DAYLIGHT
TZOFFSETFROM:-0800
TZOFFSETTO:-0700
TZNAME:PDT
DTSTART:20190310T100000
END:DAYLIGHT
BEGIN:STANDARD
TZOFFSETFROM:-0700
TZOFFSETTO:-0800
TZNAME:PST
DTSTART:20191103T090000
END:STANDARD
END:VTIMEZONE
BEGIN:VEVENT
DTSTART;TZID=America/Los_Angeles:20180729T180000
DTEND;TZID=America/Los_Angeles:20180729T210000
DTSTAMP:20260419T084333
CREATED:20180614T231516Z
LAST-MODIFIED:20180711T215731Z
UID:10007971-1532887200-1532898000@wespark.org
SUMMARY:Cool Jazz on a Hot Summer Night
DESCRIPTION:Click here for the full sponsorship form\, OR scroll down to purchase sponsorship and/or individual tickets\nContact Hillary Nadworny (hillary@wespark.org) or Marlene McGuirt (marlene@weSPARK.org) at 818-906-3022 for more information.\nTo purchase tickets using your smartphone\, please use THIS LINK to order your tickets and tables.
URL:https://wespark.org/event/cool-jazz-on-a-hot-summer-night/
LOCATION:Catalina Jazz Club\, 6725 Sunset Blvd\, Los Angeles\, CA\, 90028\, United States
END:VEVENT
END:VCALENDAR